BEGIN:VCALENDAR
VERSION:2.0
PRODID:-//ChamberMaster//Event Calendar 2.0//EN
METHOD:PUBLISH
X-PUBLISHED-TTL:P3D
REFRESH-INTERVAL:P3D
CALSCALE:GREGORIAN
BEGIN:VEVENT
DTSTART:20200127T223000Z
DTEND:20200128T000000Z
X-MICROSOFT-CDO-ALLDAYEVENT:FALSE
SUMMARY:Young Professionals
DESCRIPTION:The Chamber Young Professionals is a program designed for emerging leaders\, ages 21- 40. it is the go-to-organization for young professionals looking to engage in the Eastern Metro Business community wanting to learn about issues\, interact with regional leaders and give back to the community. This dynamic group of future leaders is open to all young business professionals\, cultural\, entrepreneurial\, politically interested people.\n\n\n\nHealth Screening by Anytime Fitness\n\n\n\nGreat way to kick off the new year. Get a health screening and learn about some of the ways you can improve your health in 2020!\n\n\n\nAgenda: \n\n-Be prepared to sweat a little\, we will be taking you through one of our Team workouts. Team workouts are a great way to create friendships\, stay motivated\, work harder and hold each other accountable. \n\n-Functional Movement Screen- We believe in an accurate workout prescription\, and that is why every new member is assessed in their mobility and functionality\, so they make the most of their time in the gym. \n\n-EVOLT 360 body composition scans- The most accurate body composition scan\, telling you everything you want to know about your body and everything you don't. Everyone will receive one of these scans as a baseline for your fitness level this new year! \n\n-Nutrition- We will talk about nutrition recommendations and what monthly goals we set for our clients\, and what goals we should set for the new year. \n\n-Q & A session\, ask us anything! \n\n \n\nWe will also provide some general information about our new club and some light snacks and refreshments. After the event\, every one is free to workout on their own or hang around with any further questions! \n\n \n\nHere is the link for the digital waiver we discussed:\n\nhttps://forms.club-os.com/signup/anytime/6023\n\nPlease make a note that when sending out this link\, there is a section that says "Guest Of:" and please put Chamber Young Professionals so I can differentiate these!
X-ALT-DESC;FMTTYPE=text/html:<p style="font-style: italic\;"><em style="font-size: 13px\;" trebuchet="">The Chamber Young Professionals is a program designed for emerging leaders\, ages 21- 40. it is the go-to-organization for young professionals looking to engage in the Eastern Metro Business community wanting to learn about issues\, interact with regional leaders and give back to the community. This dynamic group of future leaders is open to all young business professionals\, cultural\, entrepreneurial\, politically interested people.</em><br />\n<br />\n<strong>Health Screening by Anytime Fitness<br />\n<br />\nGreat way to kick off the new year. Get a health screening and learn about some of the ways you can improve your health in 2020!</strong><br />\n<br />\n<strong><span style="color: black\;"><span style="font-size: 12pt\;">Agenda:&nbsp\;</span></span></strong><br />\n<span style="color: black\;"><span style="font-size: 12pt\;">-Be prepared to <strong>sweat </strong>a little\, we will be taking you through one of our Team workouts. Team workouts are a great way to create friendships\, stay motivated\, work harder and hold each other accountable.&nbsp\;</span></span><br />\n<span style="color: black\;"><span style="font-size: 12pt\;">-<strong>Functional Movement Screen</strong>- We believe in an accurate workout prescription\, and that is why every new member is assessed in their mobility and functionality\, so they make the most of their time in the gym.&nbsp\;</span></span><br />\n<span style="color: black\;"><span style="font-size: 12pt\;">-<strong>EVOLT 360 body composition scans</strong>- The most accurate body composition scan\, telling you everything you want to know about your body and everything you don&#39\;t. Everyone will receive one of these scans as a baseline for your fitness level this new year!&nbsp\;</span></span><br />\n<span style="color: black\;"><span style="font-size: 12pt\;">-<strong>Nutrition</strong>- We will talk about nutrition recommendations and what monthly goals we set for our clients\, and what goals we should set for the new year.&nbsp\;</span></span><br />\n<span style="color: black\;"><span style="font-size: 12pt\;">-<strong>Q &amp\; A session</strong>\, ask us anything!&nbsp\;</span></span><br />\n&nbsp\;<br />\n<span style="color: black\;"><span style="font-size: 12pt\;">We will also provide some general information about our new club and some light snacks and refreshments. After the event\, every one is free to workout on their own or hang around with any further questions!&nbsp\;</span></span><br />\n&nbsp\;<br />\n<span style="color: black\;"><span style="font-size: 12pt\;">Here is the link for the digital waiver we discussed:</span></span><br />\n<span style="color: black\;"><span style="font-size: 12pt\;"><a href="https://nam02.safelinks.protection.outlook.com/?url=https%3A%2F%2Fforms.club-os.com%2Fsignup%2Fanytime%2F6023&amp\;data=02%7C01%7Cbeau.martinez%40aurorachamber.org%7C4975af13d574432e589308d799efc606%7C8a4abf595b8047ca9443ea1e499fdbb8%7C1%7C1%7C637147127415392281&amp\;sdata=zKEZIbAJ0HA8fb5Om4gA7qocfj6H7oZg33nf7R4zzaI%3D&amp\;reserved=0">https://forms.club-os.com/signup/anytime/6023</a></span></span><br />\n<span style="color: black\;"><span style="font-family: calibri\,sans-serif\;"><span style="font-size: 12pt\;">Please make a note that when sending out this link\, there is a section that says <u>&quot\;Guest Of:&quot\;</u> and please put <u>Chamber Young Professionals</u>&nbsp\;so I can differentiate these!&nbsp\;</span></span></span></p>\n
LOCATION:Anytime Fitness 5458 S. Parker Rd. Aurora\, CO 80015
UID:e.347.96452
SEQUENCE:3
DTSTAMP:20260424T084449Z
URL:https://business.aurorachamber.org/events/details/young-professionals-01-15-2020-96452
END:VEVENT

END:VCALENDAR
