BEGIN:VCALENDAR
VERSION:2.0
PRODID:-//ChamberMaster//Event Calendar 2.0//EN
METHOD:PUBLISH
X-PUBLISHED-TTL:P3D
REFRESH-INTERVAL:P3D
CALSCALE:GREGORIAN
BEGIN:VEVENT
DTSTART:20200515T200000Z
DTEND:20200515T210000Z
X-MICROSOFT-CDO-ALLDAYEVENT:FALSE
SUMMARY:WEBINAR: Suicide Intervention & Prevention
DESCRIPTION:Takeaways:                                                                                                                              \n\n\n	Attendees will address their understanding of suicide and their role in the prevention of suicide in the Aurora community.                                                                                     \n	Attendees will be able to identify community members who will be at higher risk during the crisis period.                                                                                                                    \n	Attendees will be able to identify methods of intervention that they can provide as well as resources within the Aurora community that they can connect community members to.\n\n\n\n\nOur presenter\, Erin Ralston\, is a licensed counselor and the program manager of the Connect to Care clinic with Aurora Mental Health. \n\n \nShe specializes in suicide intervention/prevention\, and disaster psychology\, working alongside a therapy dog named Harriet.  \n\n\n\nWe hope that you will join us and come together to learn how we can conquer and overcome during these difficult times.
X-ALT-DESC;FMTTYPE=text/html:<p style="background: none\; text-align: left\; color: rgb(14\, 16\, 26)\; text-transform: none\; text-indent: 0px\; letter-spacing: normal\; font-family: Helvetica Neue\,Helvetica\,Arial\,sans-serif\; font-size: 13px\; font-style: normal\; font-variant: normal\; font-weight: 400\; text-decoration: none\; margin-top: 0pt\; margin-bottom: 0pt\; word-spacing: 0px\; white-space: normal\; orphans: 2\; -webkit-text-stroke-width: 0px\;"><span style="font-size: 14px\;"><strong><font color="#000025">&nbsp\; &nbsp\;<span style="font-family: verdana\;"> &nbsp\; &nbsp\; &nbsp\; &nbsp\; &nbsp\; &nbsp\; &nbsp\;&nbsp\;</span></font></strong></span></p>\n\n<div><span style="font-size: 12px\;"><span style="font-family: verdana\;"><font color="#000025"><span style="font-size: 14px\;"><strong>Takeaways:&nbsp\;</strong>&nbsp\;&nbsp\;&nbsp\;&nbsp\;&nbsp\;&nbsp\;&nbsp\;</span>&nbsp\;&nbsp\;&nbsp\;&nbsp\;&nbsp\;&nbsp\;&nbsp\;&nbsp\;&nbsp\;&nbsp\;&nbsp\;&nbsp\;&nbsp\;&nbsp\;&nbsp\;&nbsp\;&nbsp\;&nbsp\;&nbsp\;&nbsp\;&nbsp\;&nbsp\;&nbsp\;&nbsp\;&nbsp\;&nbsp\;&nbsp\;&nbsp\;&nbsp\;&nbsp\;&nbsp\;&nbsp\;&nbsp\;&nbsp\;&nbsp\;&nbsp\;&nbsp\;&nbsp\;&nbsp\;&nbsp\;&nbsp\;&nbsp\;&nbsp\;&nbsp\;&nbsp\;&nbsp\;&nbsp\;&nbsp\;&nbsp\;&nbsp\;&nbsp\;&nbsp\;&nbsp\;&nbsp\;&nbsp\;&nbsp\;&nbsp\;&nbsp\;&nbsp\;&nbsp\;&nbsp\;&nbsp\;&nbsp\;&nbsp\;&nbsp\;&nbsp\;&nbsp\;&nbsp\;&nbsp\;&nbsp\;&nbsp\;&nbsp\;&nbsp\;&nbsp\;&nbsp\;&nbsp\;&nbsp\;&nbsp\;&nbsp\;&nbsp\;&nbsp\;&nbsp\;&nbsp\;&nbsp\;&nbsp\;&nbsp\;&nbsp\;&nbsp\;&nbsp\;&nbsp\;&nbsp\;&nbsp\;&nbsp\;&nbsp\;&nbsp\;&nbsp\;&nbsp\;&nbsp\;&nbsp\;&nbsp\;&nbsp\;&nbsp\;&nbsp\;&nbsp\;&nbsp\;&nbsp\;&nbsp\;&nbsp\;&nbsp\;&nbsp\;&nbsp\;&nbsp\;&nbsp\;&nbsp\;&nbsp\;&nbsp\;&nbsp\;&nbsp\;</font></span></span></div>\n\n<ul>\n	<li><span style="font-size: 12px\;"><span style="font-family: verdana\;">Attendees will address their understanding of suicide and their role in the prevention of suicide in the Aurora community.&nbsp\;&nbsp\;&nbsp\;&nbsp\;&nbsp\;&nbsp\;&nbsp\;&nbsp\;&nbsp\;&nbsp\;&nbsp\;&nbsp\;&nbsp\;&nbsp\;&nbsp\;&nbsp\;&nbsp\;&nbsp\;&nbsp\;&nbsp\;&nbsp\;&nbsp\;&nbsp\;&nbsp\;&nbsp\;&nbsp\;&nbsp\;&nbsp\;&nbsp\;&nbsp\;&nbsp\;&nbsp\;&nbsp\;&nbsp\;&nbsp\;&nbsp\;&nbsp\;&nbsp\;&nbsp\;&nbsp\;&nbsp\;&nbsp\;&nbsp\;&nbsp\;&nbsp\;&nbsp\;&nbsp\;&nbsp\;&nbsp\;&nbsp\;&nbsp\;&nbsp\;&nbsp\;&nbsp\;&nbsp\;&nbsp\;&nbsp\;&nbsp\;&nbsp\;&nbsp\;&nbsp\;&nbsp\;&nbsp\;&nbsp\;&nbsp\;&nbsp\;&nbsp\;&nbsp\;&nbsp\;&nbsp\;&nbsp\;&nbsp\;&nbsp\;&nbsp\;&nbsp\;&nbsp\;&nbsp\;&nbsp\;&nbsp\;&nbsp\;&nbsp\;&nbsp\;&nbsp\;&nbsp\;&nbsp\;</span></span></li>\n	<li><span style="font-size: 12px\;"><span style="font-family: verdana\;"><font color="#000025">Attendees will be able to identify community members who will be at higher risk during the crisis period.&nbsp\;&nbsp\;&nbsp\;&nbsp\;&nbsp\;&nbsp\;&nbsp\;&nbsp\;&nbsp\;&nbsp\;&nbsp\;&nbsp\;&nbsp\;&nbsp\;&nbsp\;&nbsp\;&nbsp\;&nbsp\;&nbsp\;&nbsp\;&nbsp\;&nbsp\;&nbsp\;&nbsp\;&nbsp\;&nbsp\;&nbsp\;&nbsp\;&nbsp\;&nbsp\;&nbsp\;&nbsp\;&nbsp\;&nbsp\;&nbsp\;&nbsp\;&nbsp\;&nbsp\;&nbsp\;&nbsp\;&nbsp\;&nbsp\;&nbsp\;&nbsp\;&nbsp\;&nbsp\;&nbsp\;&nbsp\;&nbsp\;&nbsp\;&nbsp\;&nbsp\;&nbsp\;&nbsp\;&nbsp\;&nbsp\;&nbsp\;&nbsp\;&nbsp\;&nbsp\;&nbsp\;&nbsp\;&nbsp\;&nbsp\;&nbsp\;&nbsp\;&nbsp\;&nbsp\;&nbsp\;&nbsp\;&nbsp\;&nbsp\;&nbsp\;&nbsp\;&nbsp\;&nbsp\;&nbsp\;&nbsp\;&nbsp\;&nbsp\;&nbsp\;&nbsp\;&nbsp\;&nbsp\;&nbsp\;&nbsp\;&nbsp\;&nbsp\;&nbsp\;&nbsp\;&nbsp\;&nbsp\;&nbsp\;&nbsp\;&nbsp\;&nbsp\;&nbsp\;&nbsp\;&nbsp\;&nbsp\;&nbsp\;&nbsp\;&nbsp\;&nbsp\;&nbsp\;&nbsp\;&nbsp\;&nbsp\;&nbsp\;&nbsp\;&nbsp\;&nbsp\;&nbsp\;&nbsp\;&nbsp\;&nbsp\;</font></span></span></li>\n	<li><span style="font-size: 12px\;"><span style="font-family: verdana\;"><font color="#000025">Attendees will be able to identify methods of intervention that they can provide as well as resources within the Aurora community that they can connect community members to.</font></span></span></li>\n</ul>\n\n<div>\n<div>\n<p style="background: none\; text-align: left\; color: rgb(14\, 16\, 26)\; text-transform: none\; text-indent: 0px\; letter-spacing: normal\; font-family: Helvetica Neue\,Helvetica\,Arial\,sans-serif\; font-size: 13px\; font-style: normal\; font-variant: normal\; font-weight: 400\; text-decoration: none\; margin-top: 0pt\; margin-bottom: 0pt\; word-spacing: 0px\; white-space: normal\; orphans: 2\; -webkit-text-stroke-width: 0px\;"><span style="font-size: 12px\;"><span style="font-family: verdana\;">Our presenter\, <font color="#000025">Erin Ralston\, is a licensed counselor and the program manager of the Connect to Care clinic with Aurora Mental Health. </font></span></span><br />\n&nbsp\;</p>\n<span style="font-size: 12px\;"><span style="font-family: verdana\;"><span style="text-align: left\; color: rgb(0\, 0\, 37)\; text-transform: none\; text-indent: 0px\; letter-spacing: normal\; font-style: italic\; font-variant: normal\; font-weight: 400\; text-decoration: none\; word-spacing: 0px\; float: none\; display: inline !important\; white-space: normal\; orphans: 2\; background-color: rgb(255\, 255\, 255)\; -webkit-text-stroke-width: 0px\;"><em>She specializes in suicide intervention/prevention\, and disaster psychology\, working alongside a therapy dog named Harriet.&nbsp\;&nbsp\;</em></span><br />\n<br />\n<em><span style="text-align: left\; color: rgb(0\, 0\, 255)\; text-transform: none\; text-indent: 0px\; letter-spacing: normal\; font-style: italic\; font-variant: normal\; font-weight: 400\; text-decoration: none\; word-spacing: 0px\; float: none\; display: inline !important\; white-space: normal\; orphans: 2\; background-color: rgb(255\, 255\, 255)\; -webkit-text-stroke-width: 0px\;">We hope that you will join us and come together to learn how we can conquer and overcome during these difficult times.&nbsp\;</span></em></span></span></div>\n</div>\n
LOCATION:WEBINAR: Click Here to Join the Zoom Meeting Meeting ID: 984 9164 7192 Password: 112632 -OR- Copy & Paste the following Link into your URL: https://aumhc.zoom.us/j/98491647192?pwd=TlQvYmpDY0doUXduL0xUMENoMlNtdz09 Meeting ID: 984 9164 7192 Password: 112632 Dial by your location +1 720 928 9299 US (Denver) This webinar will be recorded and posted on our website and Facebook to be viewed at your convenience\, however\, if you would like to view live and ask questions confidentially\, please log on at the time of the presentation.
UID:e.347.101358
SEQUENCE:3
DTSTAMP:20260420T200921Z
URL:https://business.aurorachamber.org/events/details/webinar-suicide-intervention-prevention-101358
END:VEVENT

END:VCALENDAR
