BEGIN:VCALENDAR
VERSION:2.0
PRODID:-//ChamberMaster//Event Calendar 2.0//EN
METHOD:PUBLISH
X-PUBLISHED-TTL:P3D
REFRESH-INTERVAL:P3D
CALSCALE:GREGORIAN
BEGIN:VEVENT
DTSTART:20200508T200000Z
DTEND:20200508T210000Z
X-MICROSOFT-CDO-ALLDAYEVENT:FALSE
SUMMARY:WEBINAR: Substance Abuse
DESCRIPTION:WEBINAR: Substance Abuse\n\n \n\nThe Chamber would like to have 3 Take Away Thoughts that the participants will leave with:\n\n1. Overview of substance use needs in Aurora\n\n2. Substance use services available at AuMHC\n\n3. How AuMHC is providing services during COVID-19\n\n\n\nBy:  \n\n\nJonathan Malcolm Jobe\, MA\, LAC\n\nProgram Manager\n\nEast Metro Detox & Recovery Services\n\nAlameda Center Outpatient Services \n\n  \n\nProgram Manager for Substance Use Services at Aurora Mental Health Center. Oversees operations and program development of inpatient withdrawal management clinic and outpatient substance use center.\n\n\n\nWe hope that you will join us and come together to learn how we can conquer and overcome during these difficult times.
X-ALT-DESC;FMTTYPE=text/html:<p style="background: none\; text-align: left\; color: rgb(14\, 16\, 26)\; text-transform: none\; text-indent: 0px\; letter-spacing: normal\; font-family: Helvetica Neue\,Helvetica\,Arial\,sans-serif\; font-size: 13px\; font-style: normal\; font-variant: normal\; font-weight: 400\; text-decoration: none\; margin-top: 0pt\; margin-bottom: 0pt\; word-spacing: 0px\; white-space: normal\; orphans: 2\; -webkit-text-stroke-width: 0px\;"><br />\n<span style="color: rgb(0\, 0\, 255)\;"><span style="font-size:14px\;"><strong style="background: none\; margin-top: 0pt\; margin-bottom: 0pt\;"><span style="background: none\; margin-top: 0pt\; margin-bottom: 0pt\;">WEBINAR: </span></strong></span><strong><span style="font-size:14px\;">Substance Abuse</span></strong></span><br />\n&nbsp\;</p>\n\n<div style="color: rgb(51\, 51\, 51)\; font-family: sans-serif\,Arial\,Verdana\,&amp\;quot\;Trebuchet MS&amp\;quot\;\; font-size: 13px\; font-style: normal\; font-variant: normal\; font-weight: 400\; letter-spacing: normal\; orphans: 2\; text-align: left\; text-decoration: none\; text-indent: 0px\; text-transform: none\; -webkit-text-stroke-width: 0px\; white-space: normal\; word-spacing: 0px\;"><font color="#000025">The Chamber would like to have 3 Take Away Thoughts that the participants will leave with:</font></div>\n\n<div style="color: rgb(51\, 51\, 51)\; font-family: sans-serif\,Arial\,Verdana\,&amp\;quot\;Trebuchet MS&amp\;quot\;\; font-size: 13px\; font-style: normal\; font-variant: normal\; font-weight: 400\; letter-spacing: normal\; orphans: 2\; text-align: left\; text-decoration: none\; text-indent: 0px\; text-transform: none\; -webkit-text-stroke-width: 0px\; white-space: normal\; word-spacing: 0px\;"><font color="#000025">1.&nbsp\;Overview of substance use needs in Aurora<br />\n2.&nbsp\;Substance use services available at AuMHC<br />\n3.&nbsp\;How AuMHC is providing services during COVID-19</font></div>\n\n<p style="background: none\; text-align: left\; color: rgb(14\, 16\, 26)\; text-transform: none\; text-indent: 0px\; letter-spacing: normal\; font-family: Helvetica Neue\,Helvetica\,Arial\,sans-serif\; font-size: 13px\; font-style: normal\; font-variant: normal\; font-weight: 400\; text-decoration: none\; margin-top: 0pt\; margin-bottom: 0pt\; word-spacing: 0px\; white-space: normal\; orphans: 2\; -webkit-text-stroke-width: 0px\;"><br />\n<i><font color="#000025">By:&nbsp\; </font></i></p>\n\n<div>\n<div><font color="#000025">Jonathan Malcolm Jobe\, MA\, LAC<br />\nProgram Manager<br />\nEast Metro Detox &amp\; Recovery Services<br />\nAlameda Center Outpatient Services </font></div>\n\n<div><font color="#000025">&nbsp\;&nbsp\;</font></div>\n\n<div><font color="#000025">Program Manager for Substance Use Services at Aurora Mental Health Center. Oversees operations and program development of inpatient withdrawal management clinic and outpatient substance use center.</font></div>\n\n<div><br />\n<span style="text-align: left\; color: rgb(0\, 0\, 255)\; text-transform: none\; text-indent: 0px\; letter-spacing: normal\; font-style: italic\; font-variant: normal\; font-weight: 400\; text-decoration: none\; word-spacing: 0px\; float: none\; display: inline !important\; white-space: normal\; orphans: 2\; background-color: rgb(255\, 255\, 255)\; -webkit-text-stroke-width: 0px\;">We hope that you will join us and come together to learn how we can conquer and overcome during these difficult times.&nbsp\;</span></div>\n</div>\n
LOCATION:WEBINAR: Click Here to Join the Zoom Meeting Webinar ID: 279 848 793 Password: 233080 -OR- Copy & Paste the following Link into your URL: https://aumhc.zoom.us/j/279848793?pwd=REV2RjdoSkJJcUp3UzVJV3RWVU5VUT09 Webinar ID: 279 848 793 Password: 233080 This webinar will be recorded and posted on our website and Facebook to be viewed at your convenience\, however\, if you would like to view live and ask questions confidentially\, please log on at the time of the presentation.
UID:e.347.101352
SEQUENCE:3
DTSTAMP:20260422T232940Z
URL:https://business.aurorachamber.org/events/details/webinar-substance-abuse-101352
END:VEVENT

END:VCALENDAR
