BEGIN:VCALENDAR
VERSION:2.0
PRODID:-//ChamberMaster//Event Calendar 2.0//EN
METHOD:PUBLISH
X-PUBLISHED-TTL:P3D
REFRESH-INTERVAL:P3D
CALSCALE:GREGORIAN
BEGIN:VEVENT
DTSTART:20200424T200000Z
DTEND:20200424T210000Z
X-MICROSOFT-CDO-ALLDAYEVENT:FALSE
SUMMARY:WEBINAR: Overcoming Depression
DESCRIPTION:WEBINAR: Overcoming Depression \n\n\n\nTake Away Thoughts:\n\n\n	Depression bullet points\n	Recognizing signs of depression\n	Coping skills during COVID-19 and beyond\n	Creative ways to expand your support network  \n\n\nBy:  Dawn O'Neil\, Ph.D.\, Licensed Clinical Psychologist\,\n\nInterim Division Director Adult Intensive Services\n\n\n\nDr. Dawn O'Neil is a licensed clinical psychologist who has worked with Aurora Mental Health Center for 23 years.  She has completed extensive training in helping adults with emotion regulation skills as well as crisis survival skills. Her expertise includes coaching mindfulness skills and creating structure for managing  and attending to work\, family\, and personal needs.\n\n \n\nWe hope that you will join us and come together to learn how we can conquer and overcome during these difficult times.
X-ALT-DESC;FMTTYPE=text/html:<p style="background-attachment: scroll\; background-clip: border-box\; background-color: transparent\; background-image: none\; background-origin: padding-box\; background-position-x: 0%\; background-position-y: 0%\; background-repeat: repeat\; background-size: auto\; color: rgb(14\, 16\, 26)\; font-family: Helvetica Neue\,Helvetica\,Arial\,sans-serif\; font-size: 13px\; font-style: normal\; font-variant: normal\; font-weight: 400\; letter-spacing: normal\; margin-bottom: 0pt\; margin-top: 0pt\; orphans: 2\; text-align: left\; text-decoration: none\; text-indent: 0px\; text-transform: none\; -webkit-text-stroke-width: 0px\; white-space: normal\; word-spacing: 0px\;">&nbsp\;</p>\n\n<p style="background-attachment: scroll\; background-clip: border-box\; background-color: transparent\; background-image: none\; background-origin: padding-box\; background-position-x: 0%\; background-position-y: 0%\; background-repeat: repeat\; background-size: auto\; color: rgb(14\, 16\, 26)\; font-family: Helvetica Neue\,Helvetica\,Arial\,sans-serif\; font-size: 13px\; font-style: normal\; font-variant: normal\; font-weight: 400\; letter-spacing: normal\; margin-bottom: 0pt\; margin-top: 0pt\; orphans: 2\; text-align: left\; text-decoration: none\; text-indent: 0px\; text-transform: none\; -webkit-text-stroke-width: 0px\; white-space: normal\; word-spacing: 0px\;"><span style="font-size:14px\;"><span style="font-family:tahoma\;"><span style="color:#0000FF\;"><strong style="background-attachment: scroll\; background-clip: border-box\; background-color: transparent\; background-image: none\; background-origin: padding-box\; background-position-x: 0%\; background-position-y: 0%\; background-repeat: repeat\; background-size: auto\; margin-bottom: 0pt\; margin-top: 0pt\;"><span style="background-attachment: scroll\; background-clip: border-box\; background-color: transparent\; background-image: none\; background-origin: padding-box\; background-position-x: 0%\; background-position-y: 0%\; background-repeat: repeat\; background-size: auto\; margin-bottom: 0pt\; margin-top: 0pt\;">WEBINAR: </span></strong><strong>Overcoming Depression&nbsp\;</strong></span></span></span></p>\n\n<div><br />\n<span style="font-size:14px\;"><span style="font-family:tahoma\;"><strong>Take Away Thoughts:</strong></span></span></div>\n\n<ul>\n	<li><span style="font-size:14px\;"><span style="font-family:tahoma\;"><font color="#000025">Depression bullet points</font></span></span></li>\n	<li><span style="font-size:14px\;"><span style="font-family:tahoma\;">Recognizing signs of depression</span></span></li>\n	<li><span style="font-size:14px\;"><span style="font-family:tahoma\;">Coping skills during COVID-19 and beyond</span></span></li>\n	<li><span style="font-size:14px\;"><span style="font-family:tahoma\;"><font color="#000025">Creative ways to expand your support network </font>&#8203\;</span></span></li>\n</ul>\n\n<p style="background-attachment: scroll\; background-clip: border-box\; background-color: transparent\; background-image: none\; background-origin: padding-box\; background-position-x: 0%\; background-position-y: 0%\; background-repeat: repeat\; background-size: auto\; color: rgb(14\, 16\, 26)\; font-family: Helvetica Neue\,Helvetica\,Arial\,sans-serif\; font-size: 13px\; font-style: normal\; font-variant: normal\; font-weight: 400\; letter-spacing: normal\; margin-bottom: 0pt\; margin-top: 0pt\; orphans: 2\; text-align: left\; text-decoration: none\; text-indent: 0px\; text-transform: none\; -webkit-text-stroke-width: 0px\; white-space: normal\; word-spacing: 0px\;"><span style="font-size:14px\;"><span style="font-family:tahoma\;">By:&nbsp\; Dawn O&rsquo\;Neil\, Ph.D.\, Licensed Clinical Psychologist\,</span></span></p>\n\n<p style="background-attachment: scroll\; background-clip: border-box\; background-color: transparent\; background-image: none\; background-origin: padding-box\; background-position-x: 0%\; background-position-y: 0%\; background-repeat: repeat\; background-size: auto\; color: rgb(14\, 16\, 26)\; font-family: Helvetica Neue\,Helvetica\,Arial\,sans-serif\; font-size: 13px\; font-style: normal\; font-variant: normal\; font-weight: 400\; letter-spacing: normal\; margin-bottom: 0pt\; margin-top: 0pt\; orphans: 2\; text-align: left\; text-decoration: none\; text-indent: 0px\; text-transform: none\; -webkit-text-stroke-width: 0px\; white-space: normal\; word-spacing: 0px\;"><span style="font-size:14px\;"><span style="font-family:tahoma\;">Interim Division Director Adult Intensive Services<br />\n<br />\nDr. Dawn O&rsquo\;Neil is a licensed clinical psychologist who has worked with Aurora Mental Health Center for 23 years.&nbsp\; She has completed extensive training in helping adults with emotion regulation skills as well as crisis survival skills. Her expertise includes coaching mindfulness skills and creating structure for managing&nbsp\; and attending to work\, family\, and personal needs.</span></span></p>\n\n<div>&nbsp\;</div>\n\n<p style="background-attachment: scroll\; background-clip: border-box\; background-color: transparent\; background-image: none\; background-origin: padding-box\; background-position-x: 0%\; background-position-y: 0%\; background-repeat: repeat\; background-size: auto\; color: rgb(14\, 16\, 26)\; font-family: Helvetica Neue\,Helvetica\,Arial\,sans-serif\; font-size: 13px\; font-style: normal\; font-variant: normal\; font-weight: 400\; letter-spacing: normal\; margin-bottom: 0pt\; margin-top: 0pt\; orphans: 2\; text-align: left\; text-decoration: none\; text-indent: 0px\; text-transform: none\; -webkit-text-stroke-width: 0px\; white-space: normal\; word-spacing: 0px\;"><span style="font-size:14px\;"><span style="font-family:tahoma\;"><span style="text-align: left\; color: rgb(0\, 0\, 255)\; text-transform: none\; text-indent: 0px\; letter-spacing: normal\; font-style: italic\; font-variant: normal\; font-weight: 400\; text-decoration: none\; word-spacing: 0px\; display: inline !important\; white-space: normal\; orphans: 2\; float: none\; -webkit-text-stroke-width: 0px\; background-color: rgb(255\, 255\, 255)\;">We hope that you will join us and come together to learn how we can conquer</span><span style="text-align: left\; color: rgb(0\, 0\, 255)\; text-transform: none\; text-indent: 0px\; letter-spacing: normal\; font-style: italic\; font-variant: normal\; font-weight: 400\; text-decoration: none\; word-spacing: 0px\; display: inline !important\; white-space: normal\; orphans: 2\; float: none\; -webkit-text-stroke-width: 0px\; background-color: rgb(255\, 255\, 255)\;"> and overcome during these difficult times.&nbsp\;</span></span></span></p>\n
LOCATION:WEBINAR: Click Here to Join the Zoom Meeting Webinar ID: 279 848 793 Password: 233080 -OR- Copy & Paste the following Link into your URL: https://aumhc.zoom.us/j/279848793?pwd=REV2RjdoSkJJcUp3UzVJV3RWVU5VUT09 Webinar ID: 279 848 793 Password: This webinar will be recorded and posted on our website and Facebook to be viewed at your convenience\, however\, if you would like to view live and ask questions confidentially\, please log on at the time of the presentation.
UID:e.347.101343
SEQUENCE:3
DTSTAMP:20260421T085749Z
URL:https://business.aurorachamber.org/events/details/webinar-overcoming-depression-101343
END:VEVENT

END:VCALENDAR
