BEGIN:VCALENDAR
VERSION:2.0
PRODID:-//ChamberMaster//Event Calendar 2.0//EN
METHOD:PUBLISH
X-PUBLISHED-TTL:P3D
REFRESH-INTERVAL:P3D
CALSCALE:GREGORIAN
BEGIN:VEVENT
DTSTART:20200506T190000Z
DTEND:20200506T200000Z
X-MICROSOFT-CDO-ALLDAYEVENT:FALSE
SUMMARY:WEBINAR: Leading Virtual: 3 Practices to Cultivate Virtual Teamwork
DESCRIPTION:Leading Virtual: 3 Practices to Cultivate Virtual Teamwork \n\n \n\nImprove the effectiveness of virtual teams by implementing three practices to accelerate teamwork and execution. \n\n \n\nKey Takeaways:\n\n1. Maintain trust and collaboration across virtual teams.\n\n2. Foster a culture of diversity by leveraging team members contributions.\n\n3. Manage individual professional goals and enhance internal visibility.\n\n \n\nKelly Suazo-Davis is Leadership & Professional Development Coach/Consultant. Department of Defense trained instructor\, John Maxwell Leadership trainer\, NOVA credentialed Advocate.\n\n \n\nKelly is a Leadership expert dedicated to igniting leaders to find purpose\, focus\, and influence people to generate forward movement. She has a unique ability to weave her coaching/consulting expertise to identify hidden challenges and cultivate steadfast leadership. \n\n\n\nWe hope that you will join us and come together to learn how we can concur and overcome during these difficult times.
X-ALT-DESC;FMTTYPE=text/html:<p style="background: none\; text-align: left\; text-transform: none\; text-indent: 0px\; letter-spacing: normal\; font-style: normal\; font-variant: normal\; font-weight: 400\; text-decoration: none\; margin-top: 0pt\; margin-bottom: 0pt\; word-spacing: 0px\; white-space: normal\; orphans: 2\; -webkit-text-stroke-width: 0px\;"><span style="font-size:14px\;"><span style="font-family:verdana\;"><strong><font color="#000037">Leading Virtual: 3 Practices to Cultivate Virtual Teamwork </font></strong></span></span></p>\n\n<div>&nbsp\;</div>\n\n<div><span style="font-size:12px\;"><span style="font-family:verdana\;"><font color="#000025">Improve the effectiveness of virtual teams by implementing three practices to accelerate teamwork and execution. </font></span></span><br />\n&nbsp\;</div>\n\n<div><span style="font-size:12px\;"><span style="font-family:verdana\;"><font color="#000025"><strong>Key Takeaways:</strong><br />\n1.&nbsp\;Maintain trust and collaboration across virtual teams.<br />\n2.&nbsp\;Foster a culture of diversity by leveraging team members contributions.<br />\n3.&nbsp\;Manage individual professional goals and enhance internal visibility.</font></span></span></div>\n\n<div>&nbsp\;</div>\n\n<div><span style="font-size:12px\;"><span style="font-family:verdana\;"><span style="background-attachment: scroll\; background-clip: border-box\; background-color: transparent\; background-image: none\; background-origin: padding-box\; background-position-x: 0%\; background-position-y: 0%\; background-repeat: repeat\; background-size: auto\; margin-bottom: 0pt\; margin-top: 0pt\;">Kelly Suazo-Davis is Leadership &amp\; Professional Development Coach/Consultant. Department of Defense trained instructor\, John Maxwell Leadership trainer\, NOVA credentialed Advocate.</span></span></span></div>\n\n<p style="background-attachment: scroll\; background-clip: border-box\; background-color: transparent\; background-image: none\; background-origin: padding-box\; background-position-x: 0%\; background-position-y: 0%\; background-repeat: repeat\; background-size: auto\; color: rgb(14\, 16\, 26)\; font-family: Helvetica Neue\,Helvetica\,Arial\,sans-serif\; font-size: 13px\; font-style: normal\; font-variant: normal\; font-weight: 400\; letter-spacing: normal\; margin-bottom: 0pt\; margin-top: 0pt\; orphans: 2\; text-align: left\; text-decoration: none\; text-indent: 0px\; text-transform: none\; -webkit-text-stroke-width: 0px\; white-space: normal\; word-spacing: 0px\;">&nbsp\;</p>\n\n<p style="background-attachment: scroll\; background-clip: border-box\; background-color: transparent\; background-image: none\; background-origin: padding-box\; background-position-x: 0%\; background-position-y: 0%\; background-repeat: repeat\; background-size: auto\; color: rgb(14\, 16\, 26)\; font-family: Helvetica Neue\,Helvetica\,Arial\,sans-serif\; font-size: 13px\; font-style: normal\; font-variant: normal\; font-weight: 400\; letter-spacing: normal\; margin-bottom: 0pt\; margin-top: 0pt\; orphans: 2\; text-align: left\; text-decoration: none\; text-indent: 0px\; text-transform: none\; -webkit-text-stroke-width: 0px\; white-space: normal\; word-spacing: 0px\;"><span style="font-size:12px\;"><span style="font-family:verdana\;"><span style="background-attachment: scroll\; background-clip: border-box\; background-color: transparent\; background-image: none\; background-origin: padding-box\; background-position-x: 0%\; background-position-y: 0%\; background-repeat: repeat\; background-size: auto\; margin-bottom: 0pt\; margin-top: 0pt\;">Kelly is a Leadership expert dedicated to igniting leaders to find purpose\, focus\, and influence people to generate forward movement. She has a unique ability to weave her coaching/consulting expertise to identify hidden challenges and cultivate steadfast leadership.&nbsp\;</span><br />\n<br />\n<span style="text-align: left\; color: rgb(0\, 0\, 255)\; text-transform: none\; text-indent: 0px\; letter-spacing: normal\; font-style: italic\; font-variant: normal\; font-weight: 400\; text-decoration: none\; word-spacing: 0px\; display: inline !important\; white-space: normal\; orphans: 2\; float: none\; -webkit-text-stroke-width: 0px\; background-color: rgb(255\, 255\, 255)\;">We hope that you will join us and come together to learn how we can concur and overcome during these difficult times.&nbsp\;</span></span></span></p>\n
LOCATION:WEBINAR: Click Here to Join the Zoom Meeting Webinar ID: : 845-6389-9901 -OR- Copy & Paste the following Link into your URL: https://us02web.zoom.us/j/84563899901 Webinar ID: 845-6389-9901 This webinar will be recorded and posted on our website and Facebook to be viewed at your convenience\, however\, if you would like to view live and ask questions confidentially\, please log on at the time of the presentation.
UID:e.347.101351
SEQUENCE:3
DTSTAMP:20260422T071918Z
URL:https://business.aurorachamber.org/events/details/webinar-leading-virtual-3-practices-to-cultivate-virtual-teamwork-101351
END:VEVENT

END:VCALENDAR
