BEGIN:VCALENDAR
VERSION:2.0
PRODID:-//ChamberMaster//Event Calendar 2.0//EN
METHOD:PUBLISH
X-PUBLISHED-TTL:P3D
REFRESH-INTERVAL:P3D
CALSCALE:GREGORIAN
BEGIN:VEVENT
DTSTART:20200511T190000Z
DTEND:20200511T200000Z
X-MICROSOFT-CDO-ALLDAYEVENT:FALSE
SUMMARY:WEBINAR: Energy Leadership
DESCRIPTION:Energy Leadership \n \n\nLead yourself\, your family and your organization through times of uncertainty.\n\n \n\nWe know from many Quantum physicists that everything is energy. During times of crisis\, such as the COVID-19 epidemic\, its increasingly important to understand what energy you are putting out into the world\, with your loved ones\, your community and within your organization among peers and employees.\n\n \n\nAre you creating a sense of calm or chaotic leadership?\n\n\n\nEnergy Leadership is a framework with language that can bring to light your default behaviors when presented with certain stimuli and see how your typical approach either or hinders or helps you.\n\nWhen you have more understanding of your thoughts\, feelings and habitual ways of responding-you can dramatically change the results you're getting.\n\n \n\nLeading our lives and careers from a place of awareness is the way we move into positive action and gives us the ability to motivate and inspire ourselves and others to do extraordinary things.\n\n \n\nIn this webinar well discuss:\n\n  The 7 Levels of energy and how to utilize both anabolic and catabolic energy to achieve desired results\n\n  Understand the patterns that affect how we show up and how we experience and react to people\, environments\, and circumstances\n\n  Bring awareness to the gap between stimulus and response so you can become more intentional with your responses and bring calm instead of chaos \n\n \n\nRenee is an ICF Certified\, Life and Leadership Coach\, an Energy Leadership Master Practitioner and\, owner of Life In Front Coaching LLC.   Her approach to coaching focuses on awareness\, accountability and action\, moving her clients to boldly show up in their personal and professional lives.\n\n \n\nShe challenges people to showcase their strengths and confront their weaknesses in a way that enables them to stand powerfully in who they are\, and what they bring to the table. Renee helps clients unlock the potential they have to step out from the shadows and create a more productive and fulfilling environment for themselves\, their families and their employees.\n\n \n\nAdditionally\, with 15+ years of corporate experience in leadership\, coaching\, and  learning & development \, she used her creative approach to help organizations and leaders grow by leveraging the best out of their most valuable asset-their employees.\n\n \n\n\nWe hope that you will join us and come together to learn how we can conquer and overcome during these difficult times.
X-ALT-DESC;FMTTYPE=text/html:&nbsp\;\n<div>\n<div><span style="font-size:12px\;"><span style="font-family:verdana\;"><span style="font-size:14px\;"><span style="color:#0000FF\;"><strong>Energy Leadership&nbsp\;</strong></span></span></span></span>\n<div>&nbsp\;</div>\n\n<div><span style="font-size:12px\;"><span style="font-family:verdana\;"><font color="#000025">Lead yourself\, your family and your organization through times of uncertainty.</font></span></span><br />\n&nbsp\;</div>\n\n<div><span style="font-size:12px\;"><span style="font-family:verdana\;"><font color="#000025">We know from many Quantum physicists that everything is energy. During times of crisis\, such as the COVID-19 epidemic\, its increasingly important to understand what energy you are putting out into the world\, with your loved ones\, your community and within your organization among peers and employees.</font></span></span><br />\n&nbsp\;</div>\n\n<div><span style="font-size:12px\;"><span style="font-family:verdana\;"><font color="#000025"><strong>Are you creating a sense of calm or chaotic leadership?</strong><br />\n<br />\nEnergy Leadership is a framework with language that can bring to light your default behaviors when presented with certain stimuli and see how your typical approach either or hinders or helps you.</font></span></span></div>\n\n<div><span style="font-size:12px\;"><span style="font-family:verdana\;"><font color="#000025">When you have more understanding of your thoughts\, feelings and habitual ways of responding-you can dramatically change the results you&rsquo\;re getting.</font></span></span><br />\n&nbsp\;</div>\n\n<div><span style="font-size:12px\;"><span style="font-family:verdana\;"><font color="#000025">Leading our lives and careers from a place of awareness is the way we move into positive action and gives us the ability to motivate and inspire ourselves and others to do extraordinary things.</font></span></span><br />\n&nbsp\;</div>\n\n<div><span style="font-size:12px\;"><span style="font-family:verdana\;"><font color="#000025"><strong>In this webinar well discuss:</strong><br />\n&bull\; The 7 Levels of energy and how to utilize both anabolic and catabolic energy to achieve desired results<br />\n&bull\; Understand the patterns that affect how we show up and how we experience and react to people\, environments\, and circumstances<br />\n&bull\; Bring awareness to the gap between stimulus and response so you can become more intentional with your responses and bring calm instead of chaos </font></span></span><br />\n&nbsp\;</div>\n\n<div><span style="font-size:12px\;"><span style="font-family:verdana\;"><font color="#000025">Renee is an ICF Certified\, Life and Leadership Coach\, an Energy Leadership Master Practitioner and\, owner of Life In Front Coaching LLC.&nbsp\;&nbsp\; Her approach to coaching focuses on awareness\, accountability and action\, moving her clients to boldly show up in their personal and professional lives.<br />\n&nbsp\;<br />\nShe challenges people to showcase their strengths and confront their weaknesses in a way that enables them to stand powerfully in who they are\, and what they bring to the table. Renee helps clients unlock the potential they have to step out from the shadows and create a more productive and fulfilling environment for themselves\, their families and their employees.<br />\n&nbsp\;<br />\nAdditionally\, with 15+ years of corporate experience in leadership\, coaching\, and&nbsp\; learning &amp\; development \, she used her creative approach to help organizations and leaders grow by leveraging the best out of their most valuable asset-their employees.</font></span></span><br />\n&nbsp\;</div>\n</div>\n</div>\n<span style="font-size:12px\;"><span style="text-align: left\; color: rgb(0\, 0\, 255)\; text-transform: none\; text-indent: 0px\; letter-spacing: normal\; font-style: italic\; font-variant: normal\; font-weight: 400\; text-decoration: none\; word-spacing: 0px\; display: inline !important\; white-space: normal\; orphans: 2\; float: none\; -webkit-text-stroke-width: 0px\; background-color: rgb(255\, 255\, 255)\;">We hope that you will join us and come together to learn how we can conquer and overcome during these difficult times.&nbsp\;</span></span>
LOCATION:WEBINAR: Click Here to Join the Zoom Meeting Webinar ID: 368-122-476 -OR- Copy & Paste the following Link into your https://zoom.us/webinar/register/WN_FDMRoVzBRb-1QbYd4gnhNQ Webinar ID: 368-122-476 This webinar will be recorded and posted on our website and Facebook to be viewed at your convenience\, however\, if you would like to view live and ask questions confidentially\, please log on at the time of the presentation.
UID:e.347.101354
SEQUENCE:3
DTSTAMP:20260421T071721Z
URL:https://business.aurorachamber.org/events/details/webinar-energy-leadership-101354
END:VEVENT

END:VCALENDAR
