BEGIN:VCALENDAR
VERSION:2.0
PRODID:-//ChamberMaster//Event Calendar 2.0//EN
METHOD:PUBLISH
X-PUBLISHED-TTL:P3D
REFRESH-INTERVAL:P3D
CALSCALE:GREGORIAN
BEGIN:VEVENT
DTSTART:20200529T180000Z
DTEND:20200529T190000Z
X-MICROSOFT-CDO-ALLDAYEVENT:FALSE
SUMMARY:WEBINAR: Children's Issues & COVID-19
DESCRIPTION:Supporting the emotional well-being of children and families during COVID-19\n\n \n\nBy: Lauren Jassil\, LCSW\, IMH-E  Infant Family Associate\, Clinical Director Child Specialty Programs\, Aurora Mental Health Center  \n\n \n\n3 Take Away Thoughts that the participants will leave with:\n\n\n	An understanding of children's emotional needs and ways to provide support during COVID-19.\n\n	 \n	Ideas for creating structure and routines for both children and adults during quarantine. \n\n	 \n	An increased awareness of community resources for youth and families. \n\n\nLauren has spent her career focused on building and transforming prevention and intervention programs serving youth and families in their communities. She has a graduate certificate in Early Childhood Leadership and is an avid believer in the power of families and the systems that serve them.
X-ALT-DESC;FMTTYPE=text/html:<div style="background: none\; text-align: left\; color: rgb(14\, 16\, 26)\; text-transform: none\; text-indent: 0px\; letter-spacing: normal\; font-family: Helvetica Neue\,Helvetica\,Arial\,sans-serif\; font-size: 13px\; font-style: normal\; font-variant: normal\; font-weight: 400\; text-decoration: none\; margin-top: 0pt\; margin-bottom: 0pt\; word-spacing: 0px\; white-space: normal\; orphans: 2\; -webkit-text-stroke-width: 0px\;">\n<div style="font-family: verdana\;"><span style="color: rgb(0\, 0\, 255)\;"><span style="font-size: 14px\;"><strong><span style="font-family: calibri\;">Supporting the emotional well-being of children and families during COVID-19</span></strong></span></span><br />\n&nbsp\;<br />\n<span style="font-size: medium\;"><span style="font-family: calibri\;"><strong><span style="font-size: medium\;">By</span></strong>:&nbsp\;Lauren Jassil\, LCSW\, </span></span><span style="font-size: medium\;"><em><span style="font-family: calibri\,sans-serif\;">IMH-E&copy\;&nbsp\;Infant Family Associate</span></em></span><em><span style="font-style: normal\;"><span style="font-family: calibri\,sans-serif\;">\, Clinical Director Child Specialty Programs\, Aurora Mental Health Center&nbsp\;</span></span></em>&nbsp\;<br />\n&nbsp\;<br />\n<span style="font-size: medium\;"><span style="font-family: calibri\;"><strong><span style="font-size: medium\;">3 Take Away Thoughts</span> that the participants will leave with:</strong></span></span></div>\n\n<ul>\n	<li style="font-family: verdana\;"><span style="font-size: medium\;"><span style="font-family: calibri\;">An understanding of children&rsquo\;s emotional needs and ways to provide support during COVID-19.</span></span><br />\n	&nbsp\;</li>\n	<li style="font-family: verdana\;"><span style="font-size: medium\;"><span style="font-family: calibri\;">Ideas for creating structure and routines for both children and adults during quarantine. </span></span><br />\n	&nbsp\;</li>\n	<li style="font-family: verdana\;"><span style="font-size: medium\;"><span style="font-family: calibri\;">An increased awareness of community resources for youth and families. </span></span></li>\n</ul>\n\n<div style="font-family: verdana\;"><span style="font-size: medium\;"><span style="font-family: calibri\;"><span style="font-size: medium\;"><span style="font-family: calibri\;"><span style="font-size: medium\;"><span style="font-family: calibri\;"><span style="font-size: medium\;"><span style="font-family: calibri\;"><span style="font-size: medium\;"><span style="font-family: calibri\;"><span style="font-size: medium\;"><span style="font-family: calibri\;"><font face="Calibri" size="3">Lauren has spent her career focused on building and transforming prevention and intervention programs serving youth and families in their communities. She has a graduate certificate in Early Childhood Leadership and is an avid believer in the power of families and the systems that serve them.&nbsp\; </font>&nbsp\;</span></span></span></span></span></span></span></span></span></span></span></span></div>\n\n<div style="font-family: verdana\;">&nbsp\;<br />\n&nbsp\;</div>\n</div>\n
LOCATION:WEBINAR: Click Here to Join the Zoom Meeting Meeting ID: 965 4062 7738 Password: 540419 -OR- Copy & Paste the following Link into your URL: https://aumhc.zoom.us/j/96540627738?pwd=ZWtJQjZEN2tJcmdURTVEOFVEVmFNQT09 Meeting ID: 965 4062 7738 Password: 540419 Dial by your location +172-0928-9299 US (Denver) This webinar will be recorded and posted on our website and Facebook to be viewed at your convenience\, however\, if you would like to view live and ask questions confidentially\, please log on at the time of the presentation.
UID:e.347.101362
SEQUENCE:3
DTSTAMP:20260421T175116Z
URL:https://business.aurorachamber.org/events/details/webinar-children-s-issues-covid-19-101362
END:VEVENT

END:VCALENDAR
