BEGIN:VCALENDAR
VERSION:2.0
PRODID:-//ChamberMaster//Event Calendar 2.0//EN
METHOD:PUBLISH
X-PUBLISHED-TTL:P3D
REFRESH-INTERVAL:P3D
CALSCALE:GREGORIAN
BEGIN:VEVENT
DTSTART:20200430T173000Z
DTEND:20200430T183000Z
X-MICROSOFT-CDO-ALLDAYEVENT:FALSE
SUMMARY:WEBINAR: Brain Reconditioning: Mastering your Stress
DESCRIPTION:Brain Reconditioning: Mastering your Stress \n\n \n\nLearning Objective:\n\n\n	Course will explore the neuroscience underlying stress\n	We will review personal Stress Lens\, Load and Profile\n	Tools for Increasing your Awareness\, Emotional intelligence\, and Social Intelligence\n	Discuss your Personal Triggers and begin to  Rewire your Brain\n	Discussion on Lasting Habit change\n	Framework for working with Emotions of Fear\, and it's connection to Focus\n\n\nAttention and Productivity\n\n\n	Participants  will receive FREE downloadable professional mindfulness recordings\n	Course will be approximately 50% actual practice\n\n\nThis is science proven facts from Harvard Public Health\, Massachusetts General\, Broad Institute\, and The Masters Course on how to cope with Coronavirus related Stress.\n\n\n \n\nMichelle (Shakti) Anne\, is a Master Executive Neuro Coach\, National Speaker and guru in the fields of NeuroLeadership\, stress and team development. A confident\, thought-provoking and relaxed speaker\, she offers keynotes\, coaching\, and team development for clients such as: FEMA\, Bureau of Prisons\, Holland & Hart\, and some of the largest Fortune 100 consulting firms.\n\n \n\nMichelle has studied Neuroscience at Harvard University\, Business Leadership at Miami University\, Creativity & Innovation at Parsons School of Design\, Mind-body medicine and Stress Mastery at The American Institute of Stress and The Center for Mindfulness\, and done intensive work with a guru in eastern philosophy. She is part of a Think-tank with leaders at the United Nations\, Harvard\, Pepperdine\, and Stanford developing new methodologies to evolving leadership adaptability\, innovation and enlightenment.\n\n\n\n\nWe hope that you will join us and come together to learn how we can conquer and overcome during these difficult times.
X-ALT-DESC;FMTTYPE=text/html:<div>\n<div>\n<div>\n<div><span style="font-size:14px\;"><span style="font-family:tahoma\;"><span style="color:#0000FF\;"><strong>Brain Reconditioning: Mastering your Stress </strong></span></span></span><br />\n&nbsp\;</div>\n\n<div><span style="font-size:14px\;"><span style="font-family:tahoma\;"><strong><font color="#000025">Learning Objective:</font></strong></span></span></div>\n\n<ul>\n	<li>Course will explore the neuroscience underlying stress</li>\n	<li><span style="font-size:14px\;"><span style="font-family:tahoma\;"><font color="#000025">We will review personal Stress Lens\, Load and Profile</font></span></span></li>\n	<li><span style="font-size:14px\;"><span style="font-family:tahoma\;"><font color="#000025">Tools for Increasing your Awareness\, Emotional intelligence\, and Social Intelligence</font></span></span></li>\n	<li><span style="font-size:14px\;"><span style="font-family:tahoma\;"><font color="#000025">Discuss your Personal Triggers and begin to&nbsp\; Rewire your Brain</font></span></span></li>\n	<li><span style="font-size:14px\;"><span style="font-family:tahoma\;"><font color="#000025">Discussion on Lasting Habit change</font></span></span></li>\n	<li><span style="font-size:14px\;"><span style="font-family:tahoma\;"><font color="#000025">Framework for working with Emotions of Fear\, and it&rsquo\;s connection to Focus</font></span></span></li>\n</ul>\n\n<div><span style="font-size:14px\;"><span style="font-family:tahoma\;"><font color="#000025"><strong>Attention and Productivity</strong></font></span></span></div>\n\n<ul>\n	<li>Participants&nbsp\; will receive FREE downloadable professional mindfulness recordings</li>\n	<li><span style="font-size:14px\;"><span style="font-family:tahoma\;"><font color="#000025">Course will be approximately 50% actual practice</font></span></span></li>\n</ul>\n\n<div><span style="font-size:14px\;"><span style="font-family:tahoma\;">This is science proven facts from Harvard Public Health\, Massachusetts General\, Broad Institute\, and The Masters Course on how <span style="text-align: left\; color: rgb(51\, 51\, 51)\; text-transform: none\; text-indent: 0px\; letter-spacing: normal\; font-style: italic\; font-variant: normal\; font-weight: 400\; text-decoration: none\; word-spacing: 0px\; display: inline !important\; white-space: normal\; orphans: 2\; float: none\; -webkit-text-stroke-width: 0px\; background-color: rgb(255\, 255\, 255)\;">to cope with Coronavirus related Stress.</span></span></span></div>\n</div>\n</div>\n&nbsp\;\n\n<div><span style="font-size:14px\;"><span style="font-family:tahoma\;">Michelle (Shakti) Anne\, is a Master Executive Neuro Coach\, National Speaker and guru in the fields of NeuroLeadership\, stress and team development. A confident\, thought-provoking and relaxed speaker\, she offers keynotes\, coaching\, and team development for clients such as: FEMA\, Bureau of Prisons\, Holland &amp\; Hart\, and some of the largest Fortune 100 consulting firms.</span></span><br />\n&nbsp\;</div>\n\n<div><span style="font-size:14px\;"><span style="font-family:tahoma\;">Michelle has studied Neuroscience at Harvard University\, Business Leadership at Miami University\, Creativity &amp\; Innovation at Parsons School of Design\, Mind-body medicine and Stress Mastery at The American Institute of Stress and The Center for Mindfulness\, and done intensive work with a guru in eastern philosophy. She is part of a Think-tank with leaders at the United Nations\, Harvard\, Pepperdine\, and Stanford developing new methodologies to evolving leadership adaptability\, innovation and enlightenment.</span></span></div>\n</div>\n\n<div><br />\n<span style="font-size:14px\;"><span style="font-family:tahoma\;"><span style="color:#0000FF\;"><em>We hope that you will join us and come together to learn how we can&nbsp\;</em></span><span style="text-align: left\; color: rgb(0\, 0\, 255)\; text-transform: none\; text-indent: 0px\; letter-spacing: normal\; font-style: italic\; font-variant: normal\; font-weight: 400\; text-decoration: none\; word-spacing: 0px\; display: inline !important\; white-space: normal\; orphans: 2\; float: none\; -webkit-text-stroke-width: 0px\; background-color: rgb(255\, 255\, 255)\;">conquer</span><span style="color:#0000FF\;"><em> and overcome during these difficult times.&nbsp\;</em></span></span></span></div>\n
LOCATION:WEBINAR: Click Here to Join the Zoom Meeting Webinar ID: 846 256 7470 -OR- Copy & Paste the following Link into your URL: https://nam02.safelinks.protection.outlook.com/?url=https%3A%2F%2Fzoom.us%2Fj%2F8462567470&amp\;data=02%7C01%7Cdpoole%40aurorachamber.org%7Cabd9551a9bed4768f79d08d7d677049a%7C8a4abf595b8047ca9443ea1e499fdbb8%7C1%7C0%7C637213678986667685&amp\;sdata=iKHVbsewVpE9WiO%2Bo7R8tF3G6FILg9pBVo5qn2ZVdvk%3D&amp\;reserved=0 Webinar ID: 846 256 7470 This webinar will be recorded and posted on our website and Facebook to be viewed at your convenience\, however\, if you would like to view live and ask questions confidentially\, please log on at the time of the presentation.
UID:e.347.101347
SEQUENCE:3
DTSTAMP:20260421T034218Z
URL:https://business.aurorachamber.org/events/details/webinar-brain-reconditioning-mastering-your-stress-101347
END:VEVENT

END:VCALENDAR
