BEGIN:VCALENDAR
VERSION:2.0
PRODID:-//ChamberMaster//Event Calendar 2.0//EN
METHOD:PUBLISH
X-PUBLISHED-TTL:P3D
REFRESH-INTERVAL:P3D
CALSCALE:GREGORIAN
BEGIN:VEVENT
DTSTART:20200723T133000Z
DTEND:20200723T150000Z
X-MICROSOFT-CDO-ALLDAYEVENT:FALSE
SUMMARY:Virtual Defense Council\, 460th Space Wing
DESCRIPTION:This month's Defense Council will be hosted "virtually" by the 460th Space Wing and Buckley AFB Installation Commander\, Colonel Devin Pepper.   \n\n\n\nJoin Zoom Meeting:\n\n\nhttps://us02web.zoom.us/j/86788553218?pwd=NytwNis3Q3UvOHYrV3VHR0tTZW1QZz09\n \n\n\n\nContact Rene Simard at rene.simard@aurorachamber.org or 303-365-4923.
X-ALT-DESC;FMTTYPE=text/html:<span style="font-size: 16px\;"><strong>This month&#39\;s Defense Council will be hosted &quot\;virtually&quot\; by the&nbsp\;460th Space Wing and Buckley AFB Installation Commander\, Colonel Devin Pepper.&nbsp\; &nbsp\;</strong></span><br />\n<br />\n<span style="font-weight: bolder\; margin: 0px\; padding: 0px\; border: none\; font-variant-numeric: inherit\; font-variant-east-asian: inherit\; font-stretch: inherit\; font-size: 14px\; line-height: inherit\; font-family: &quot\;Open Sans&quot\;\, Arial\, Helvetica\, sans-serif\; vertical-align: baseline\; bottom: auto\; box-sizing: content-box\; clear: none\; color: rgb(255\, 0\, 0)\; content: normal\; direction: inherit\; empty-cells: show\; left: auto\; max-height: none\; max-width: none\; min-height: initial\; min-width: initial\; opacity: 1\; outline-offset: 0px\; overflow: visible\; position: static\; resize: none\; right: auto\; table-layout: auto\; text-overflow: clip\; top: auto\; visibility: inherit\; word-break: inherit\; overflow-wrap: inherit\; z-index: auto\; background-image: none\; background-position: initial\; background-size: initial\; background-repeat: initial\; background-attachment: initial\; background-origin: initial\; background-clip: initial\; border-collapse: separate\; border-radius: 0px\; height: auto\; width: auto\; box-shadow: none\;">Join Zoom Meeting:</span>\n<div><br style="bottom: auto\; box-sizing: content-box\; clear: none\; color: inherit\; content: normal\; direction: inherit\; display: inline\; empty-cells: show\; float: none\; font: inherit\; left: auto\; letter-spacing: inherit\; margin: 0px\; max-height: none\; max-width: none\; min-height: initial\; min-width: initial\; opacity: 1\; outline-offset: 0px\; overflow: visible\; padding: 0px\; position: static\; resize: none\; right: auto\; table-layout: auto\; text-align: inherit\; text-indent: inherit\; text-overflow: clip\; text-transform: inherit\; top: auto\; vertical-align: baseline\; visibility: inherit\; white-space: inherit\; word-break: inherit\; word-spacing: inherit\; overflow-wrap: inherit\; z-index: auto\; background-image: none\; background-position: initial\; background-size: initial\; background-repeat: initial\; background-attachment: initial\; background-origin: initial\; background-clip: initial\; border: none\; border-collapse: separate\; border-radius: 0px\; height: auto\; width: auto\;" />\n<span style="font-weight: bolder\; margin: 0px\; padding: 0px\; border: none\; font-variant-numeric: inherit\; font-variant-east-asian: inherit\; font-stretch: inherit\; font-size: 14px\; line-height: inherit\; font-family: &quot\;Open Sans&quot\;\, Arial\, Helvetica\, sans-serif\; vertical-align: baseline\; bottom: auto\; box-sizing: content-box\; clear: none\; color: rgb(255\, 0\, 0)\; content: normal\; direction: inherit\; empty-cells: show\; left: auto\; max-height: none\; max-width: none\; min-height: initial\; min-width: initial\; opacity: 1\; outline-offset: 0px\; overflow: visible\; position: static\; resize: none\; right: auto\; table-layout: auto\; text-overflow: clip\; top: auto\; visibility: inherit\; word-break: inherit\; overflow-wrap: inherit\; z-index: auto\; background-image: none\; background-position: initial\; background-size: initial\; background-repeat: initial\; background-attachment: initial\; background-origin: initial\; background-clip: initial\; border-collapse: separate\; border-radius: 0px\; height: auto\; width: auto\; box-shadow: none\;">https://us02web.zoom.us/j/86788553218?pwd=NytwNis3Q3UvOHYrV3VHR0tTZW1QZz09</span>\n<div>&nbsp\;</div>\n</div>\n<br />\n<span style="font-size: 16px\;"><strong>Contact Rene Simard at <a href="mailto:rene.simard@aurorachamber.org">rene.simard@aurorachamber.org</a>&nbsp\;or 303-365-4923.&nbsp\;</strong></span><br />\n<br />\n<br />\n&nbsp\;
LOCATION:Meeting Information: Join Zoom Meeting: https://us02web.zoom.us/j/86788553218?pwd=NytwNis3Q3UvOHYrV3VHR0tTZW1QZz09 Meeting ID: 867 8855 3218 Password: 508456 One tap mobile +16699006833\,\,86788553218# US (San Jose) +12532158782\,\,86788553218# US (Tacoma) Dial by your location +1 669 900 6833 US (San Jose) +1 253 215 8782 US (Tacoma) +1 346 248 7799 US (Houston) +1 929 436 2866 US (New York) +1 301 715 8592 US (Germantown) +1 312 626 6799 US (Chicago) Meeting ID: 867 8855 3218 Find your local number: https://us02web.zoom.us/u/kcPfLrUjEi
UID:e.347.101372
SEQUENCE:3
DTSTAMP:20260421T100005Z
URL:https://business.aurorachamber.org/events/details/virtual-defense-council-460th-space-wing-101372
END:VEVENT

END:VCALENDAR
