BEGIN:VCALENDAR
VERSION:2.0
PRODID:-//ChamberMaster//Event Calendar 2.0//EN
METHOD:PUBLISH
X-PUBLISHED-TTL:P3D
REFRESH-INTERVAL:P3D
CALSCALE:GREGORIAN
BEGIN:VEVENT
DTSTART:20190718T133000Z
DTEND:20190718T143000Z
X-MICROSOFT-CDO-ALLDAYEVENT:FALSE
SUMMARY:Video Marketing 101
DESCRIPTION:Raise your hand if this sounds like you...\n\n* Interested in creating video for your business\, but confused on how to get started.\n\n* Hired a video professional in the past and were disappointed in how it turned out (even though you can't quite put your finger on why).\n\n* You have dabbled a bit on your own\, shot or edited a few things\, but it felt like a big waste of time for a product that wasn't all that great.\n\n* You know that knowledge is power\, and want to learn the best practices in video marketing.\n\n If this is you\, we would love to invite you to Video Marketing 101. A 1.5-hour workshop over breakfast where we work to incorporate video into your marketing plan.\n\nWe will be covering:\n\n1. How to plan a video strategy that helps convert shoppers into sales.\n\n2. Which videos to make first and why.\n\n2. How to create compelling video content on any budget.\n\n3. The basics of equipment and what to look for when hiring a video crew or filming yourself.\n\nIf you've been wanting to get started on video but you feel overwhelmed and powerless over how to do it\, this is the workshop for you. We promise you will leave with a plan\, a script and confidence to shoot or hire the right team for your video project.\n\nIf this sounds like you. Check out the event details HERE
X-ALT-DESC;FMTTYPE=text/html:<p>Raise your hand if this sounds like you...</p>\n\n<p>* Interested in creating video for your business\, but confused on how to get started.</p>\n\n<p>* Hired a video professional in the past and were disappointed in how it turned out (even though you can&#39\;t quite put your finger on why).</p>\n\n<p>* You have dabbled a bit on your own\, shot or edited a few things\, but it felt like a big waste of time for a product that wasn&#39\;t all that great.</p>\n\n<p>* You know that knowledge is power\, and want to learn the best practices in video marketing.</p>\n\n<p>&nbsp\;If this is you\, we would love to invite you to Video Marketing 101. A 1.5-hour workshop over breakfast where we work to incorporate video into your marketing plan.</p>\n\n<p>We will be covering:</p>\n\n<p>1. How to plan a video strategy that helps convert shoppers into sales.</p>\n\n<p>2. Which videos to make first and why.</p>\n\n<p>2. How to create compelling video content on any budget.</p>\n\n<p>3. The basics of equipment and what to look for when hiring a video crew or filming yourself.</p>\n\n<p>If you&#39\;ve been wanting to get started on video but you feel overwhelmed and powerless over how to do it\, this is the workshop for you. We promise you will leave with a plan\, a script and confidence to shoot or hire the right team for your video project.</p>\n\n<p>If this sounds like you. Check out the event details <a href="https://www.eventbrite.com/e/video-marketing-101-tickets-63695017512?utm_source=Networking+List&amp\;utm_campaign=8e54f8ab10-EMAIL_CAMPAIGN_2018_05_24_09_49_COPY_01&amp\;utm_medium=email&amp\;utm_term=0_4e9462093f-8e54f8ab10-173261125">HERE&nbsp\;</a></p>\n\n<p>&nbsp\;</p>\n
LOCATION:Denver Open Media 700 Kalamath St\, Denver\, CO 80204
UID:e.347.100285
SEQUENCE:3
DTSTAMP:20260424T064203Z
URL:https://business.aurorachamber.org/events/details/video-marketing-101-100285
END:VEVENT

END:VCALENDAR
