BEGIN:VCALENDAR
VERSION:2.0
PRODID:-//ChamberMaster//Event Calendar 2.0//EN
METHOD:PUBLISH
X-PUBLISHED-TTL:P3D
REFRESH-INTERVAL:P3D
CALSCALE:GREGORIAN
BEGIN:VEVENT
DTSTART:20200108T143000Z
DTEND:20200108T160000Z
X-MICROSOFT-CDO-ALLDAYEVENT:FALSE
SUMMARY:Transportation Committee - RTD Update
DESCRIPTION:There's a lot going on with RTD - so join us to hear the latest about where the Regional Transportation District is 'going!'
X-ALT-DESC;FMTTYPE=text/html:<span style="font-size:12px\;"><span style="font-family:arial\;"><span style="font-weight: 700\;">There&#39\;s a lot going on with RTD - so join us to hear the latest about where the Regional Transportation District is &#39\;going!&#39\;</span></span></span>
LOCATION:Aurora Chamber of Commerce 14305 E. Alameda Ave. #300 Aurora\, CO 80012
UID:e.347.88169
SEQUENCE:3
DTSTAMP:20260424T190431Z
URL:https://business.aurorachamber.org/events/details/transportation-committee-rtd-update-88169
END:VEVENT

END:VCALENDAR
