BEGIN:VCALENDAR
VERSION:2.0
PRODID:-//ChamberMaster//Event Calendar 2.0//EN
METHOD:PUBLISH
X-PUBLISHED-TTL:P3D
REFRESH-INTERVAL:P3D
CALSCALE:GREGORIAN
BEGIN:VEVENT
DTSTART:20200805T133000Z
DTEND:20200805T150000Z
X-MICROSOFT-CDO-ALLDAYEVENT:FALSE
SUMMARY:Transportation Committee - E-470 Update
DESCRIPTION:E-470 Executive Director Tim Stewart will update attendees about upcoming projects with City of Aurora interactions to the beltway\; the improved interchange at Gartrell Rd.\; and interactions with the extensions of Aurora Parkway between Parker Road and Gartrell Rd.\, with a new E-470 crossing. He will also comment on how COVID-19 has/is affecting staff and projects.
X-ALT-DESC;FMTTYPE=text/html:<span style="color:#232333\;"><span style="font-size:14.0pt\;">E-470 Executive Director Tim Stewart will update attendees about upcoming projects with City of Aurora interactions to the beltway\; the improved interchange at Gartrell Rd.\; and interactions with the extensions of Aurora Parkway between Parker Road and Gartrell Rd.\, with a new E-470 crossing. He will also comment on how COVID-19 has/is affecting staff and projects.</span></span><br />\n&nbsp\;
LOCATION:Join Zoom Meeting https://us02web.zoom.us/j/89272313360 Meeting ID: 892 7231 3360 One tap mobile +13462487799\,\,89272313360# US
UID:e.347.88176
SEQUENCE:3
DTSTAMP:20260421T085905Z
URL:https://business.aurorachamber.org/events/details/transportation-committee-e-470-update-88176
END:VEVENT

END:VCALENDAR
