BEGIN:VCALENDAR
VERSION:2.0
PRODID:-//ChamberMaster//Event Calendar 2.0//EN
METHOD:PUBLISH
X-PUBLISHED-TTL:P3D
REFRESH-INTERVAL:P3D
CALSCALE:GREGORIAN
BEGIN:VEVENT
DTSTART:20190807T133000Z
DTEND:20190807T150000Z
X-MICROSOFT-CDO-ALLDAYEVENT:FALSE
SUMMARY:Transportation Committee - E-470
DESCRIPTION:The August Transportation meeting is a "field trip" to E-470\, to get an update from Executive Director Tim Stewart. There's a lot going on with E-470\, so join us and hear all about it - first-hand!
X-ALT-DESC;FMTTYPE=text/html:The August Transportation meeting is a &quot\;field trip&quot\; to E-470\, to get an update from Executive Director Tim Stewart. There&#39\;s a lot going on with E-470\, so join us and hear all about it - first-hand!
LOCATION:E-470 22470 E. 6th Pkwy.\, Ste. 100 Aurora\, CO 80018
UID:e.347.88164
SEQUENCE:3
DTSTAMP:20260423T032015Z
URL:https://business.aurorachamber.org/events/details/transportation-committee-e-470-88164
END:VEVENT

END:VCALENDAR
