BEGIN:VCALENDAR
VERSION:2.0
PRODID:-//ChamberMaster//Event Calendar 2.0//EN
METHOD:PUBLISH
X-PUBLISHED-TTL:P3D
REFRESH-INTERVAL:P3D
CALSCALE:GREGORIAN
BEGIN:VEVENT
DTSTART:20190109T143000Z
DTEND:20190109T160000Z
X-MICROSOFT-CDO-ALLDAYEVENT:FALSE
SUMMARY:Transportation Committee - CDOT Update
DESCRIPTION:CDOT Transportation Commissioner Jes s Pulido and CDOT Region 1 Transportation Director Paul Jesaitis will update the committee on projects in the region including the I-70 corridor\, which is currently under construction.
X-ALT-DESC;FMTTYPE=text/html:<span style="font-size:12px\;"><span style="font-family:arial\;"><span _mce_style="font-size: 8pt\; color: #323232\; font-family: &quot\;Arial Narrow&quot\;\, &quot\;Arial MT Condensed Light&quot\;\, sans-serif\;" style="font-weight: 700\;">CDOT Transportation Commissioner&nbsp\;</span><span _mce_style="font-size: 8pt\; font-family: &quot\;Arial Narrow&quot\;\, &quot\;Arial MT Condensed Light&quot\;\, sans-serif\; color: #323232\;" style="font-weight: 700\;">Jes&uacute\;s Pulido and CDOT Region 1 Transportation Director Paul&nbsp\;</span><span _mce_style="color: #323232\; font-size: 8pt\; font-style: inherit\; font-variant-ligatures: inherit\; font-variant-caps: inherit\; letter-spacing: inherit\; text-indent: inherit\; text-transform: inherit\; white-space: inherit\; word-spacing: inherit\;" style="font-style: inherit\; font-variant-ligatures: inherit\; font-variant-caps: inherit\; letter-spacing: inherit\; text-indent: inherit\; text-transform: inherit\; white-space: inherit\; word-spacing: inherit\; font-weight: 700\;">Jesaitis will update the committee on projects in the region</span></span></span><strong><span style="font-size:11px\;"><span style="font-family:arial\;"><span style="font-size:12px\;">&nbsp\;including the I-70 corridor\, which is currently under construction.</span></span></span></strong><br />\n&nbsp\;
LOCATION:Aurora Chamber of Commerce 14305 E. Alameda Ave. #300 Aurora\, CO 80012
UID:e.347.88157
SEQUENCE:3
DTSTAMP:20260426T023014Z
URL:https://business.aurorachamber.org/events/details/transportation-committee-cdot-update-88157
END:VEVENT

END:VCALENDAR
