BEGIN:VCALENDAR
VERSION:2.0
PRODID:-//ChamberMaster//Event Calendar 2.0//EN
METHOD:PUBLISH
X-PUBLISHED-TTL:P3D
REFRESH-INTERVAL:P3D
CALSCALE:GREGORIAN
BEGIN:VEVENT
DTSTART:20190702T174500Z
DTEND:20190702T190000Z
X-MICROSOFT-CDO-ALLDAYEVENT:FALSE
SUMMARY:Tips and Leads 1
DESCRIPTION:Tips and Leads 1\n\n \n\nAurora Chamber of Commerce\n\n\nCeleste Delahanty - Chamber Representative\n\n303-344-1500\n\nwww.aurorachamber.org
X-ALT-DESC;FMTTYPE=text/html:<span style="font-size:14px\;">Tips and Leads 1</span><br />\n&nbsp\;\n<div>\n<div><span style="font-size:14px\;"><strong><strong>Aurora Chamber of Commerce</strong></strong></span></div>\n\n<div>\n<div><span style="font-size:14px\;"><strong>Celeste Delahanty - Chamber Representative</strong></span></div>\n\n<div><span style="font-size:14px\;"><strong>303-344-1500</strong></span></div>\n\n<div><span style="font-size:14px\;"><strong><a href="mailto:paul.rosenberg@aurorachamber.org">www.aurorachamber.org</a></strong></span></div>\n</div>\n</div>\n
LOCATION:Aurora Chamber of Commerce 14305 E. Alameda Ave. Suite 300 Aurora\, CO 80012 (unless otherwise notified)
UID:e.347.88700
SEQUENCE:3
DTSTAMP:20260426T021531Z
URL:https://business.aurorachamber.org/events/details/tips-and-leads-1-07-02-2019-88700
END:VEVENT

END:VCALENDAR
