BEGIN:VCALENDAR
VERSION:2.0
PRODID:-//ChamberMaster//Event Calendar 2.0//EN
METHOD:PUBLISH
X-PUBLISHED-TTL:P3D
REFRESH-INTERVAL:P3D
CALSCALE:GREGORIAN
BEGIN:VEVENT
DTSTART:20260506T133000Z
DTEND:20260506T150000Z
X-MICROSOFT-CDO-ALLDAYEVENT:FALSE
SUMMARY:The State of RTD - Transportation Committee
DESCRIPTION:Join us to hear from RTD District F Director Kathleen Chandler about the State of RTD. She will cover budget\, safety upgrades\, legislation\, and answer questions.
X-ALT-DESC;FMTTYPE=text/html:<p style="margin: 0px\; padding: 0px\;">Join us to hear from RTD District F Director Kathleen Chandler about the State of RTD. She will cover budget\, safety upgrades\, legislation\, and answer questions.</p>\n\n<p align="center" style="margin: 0px\; padding: 0px\; text-align: center\;">&nbsp\;</p>\n
LOCATION:Aurora Chamber of Commerce 610 S Abilene St\, Ste B Aurora\, CO 80012 This meeting will also be available via Teams. Link will be sent to all registrants the day prior to the meeting. Contact mitzi.schindler@aurorachamber.org for information or questions.
UID:e.347.101972
SEQUENCE:3
DTSTAMP:20260423T093540Z
URL:https://business.aurorachamber.org/events/details/the-state-of-rtd-transportation-committee-101972
END:VEVENT

END:VCALENDAR
