BEGIN:VCALENDAR
VERSION:2.0
PRODID:-//ChamberMaster//Event Calendar 2.0//EN
METHOD:PUBLISH
X-PUBLISHED-TTL:P3D
REFRESH-INTERVAL:P3D
CALSCALE:GREGORIAN
BEGIN:VEVENT
DTSTART:20200126T023000Z
DTEND:20200126T043000Z
X-MICROSOFT-CDO-ALLDAYEVENT:FALSE
SUMMARY:The Squirrels
DESCRIPTION:THE SQUIRRELS\n\nBy Robert Askins\n\nDirected by Missy Moore\n\nThe Squirrels is a fiery look at race and class in America. Winter is on its way and the squirrels are growing restless. Mistrust is growing between the rich Gray Squirrels and the outcast Fox Squirrels. When a wily outsider gets in the mix\, he ignites an epic animal kingdom soap opera teeming with rebel armies\, dark conspiracies and divided family loyalties. No squirrel will go unharmed in this deliciously demented dark comedy hailed by Broadway World as ?a very entertaining and timely play that will make you laugh and think at the same time.? Fans of last year?s controversial\, surprise hit\, Hooded or Being Black for Dummies\, will love this wicked examination of class\, prejudice\, and politics.\n\nContent Advisory: Adult situation and violence
X-ALT-DESC;FMTTYPE=text/html:<div>\n<p><strong>THE SQUIRRELS</strong></p>\n\n<p><strong>By Robert Askins</strong></p>\n\n<p><strong>Directed by Missy Moore</strong></p>\n\n<p><em>The Squirrels</em> is a fiery look at race and class in America. Winter is on its way and the squirrels are growing restless. Mistrust is growing between the rich Gray Squirrels and the outcast Fox Squirrels. When a wily outsider gets in the mix\, he ignites an epic animal kingdom soap opera teeming with rebel armies\, dark conspiracies and divided family loyalties. No squirrel will go unharmed in this deliciously demented dark comedy hailed by Broadway World as ?a very entertaining and timely play that will make you laugh and think at the same time.? Fans of last year?s controversial\, surprise hit\, <em>Hooded or Being Black for Dummies\, </em>will love this wicked examination of class\, prejudice\, and politics.</p>\n\n<p><em>Content Advisory: Adult situation and violence</em></p>\n</div>\n
LOCATION:Aurora Fox Arts Center 9900 E Colfax Ave Aurora\, CO 80010
UID:e.347.100593
SEQUENCE:3
DTSTAMP:20260422T071923Z
URL:https://business.aurorachamber.org/events/details/the-squirrels-01-25-2020-100593
END:VEVENT

END:VCALENDAR
