BEGIN:VCALENDAR
VERSION:2.0
PRODID:-//ChamberMaster//Event Calendar 2.0//EN
METHOD:PUBLISH
X-PUBLISHED-TTL:P3D
REFRESH-INTERVAL:P3D
CALSCALE:GREGORIAN
BEGIN:VEVENT
DTSTART:20200119T210000Z
DTEND:20200119T230000Z
X-MICROSOFT-CDO-ALLDAYEVENT:FALSE
SUMMARY:The Squirrels
DESCRIPTION:THE SQUIRRELS\n\n\n\nBy Robert Askins\n\n\n\nDirected by Missy Moore\n\n\n\nThe Squirrels is a fiery look at race and class in America. Winter is on its way and the squirrels are growing restless. Mistrust is growing between the rich Gray Squirrels and the outcast Fox Squirrels. When a wily outsider gets in the mix\, he ignites an epic animal kingdom soap opera teeming with rebel armies\, dark conspiracies and divided family loyalties. No squirrel will go unharmed in this deliciously demented dark comedy hailed by Broadway World as "a very entertaining and timely play that will make you laugh and think at the same time." Fans of last year's controversial\, surprise hit\, Hooded or Being Black for Dummies\, will love this wicked examination of class\, prejudice\, and politics.\n\n\n\nContent Advisory: Adult situation and violence
X-ALT-DESC;FMTTYPE=text/html:THE SQUIRRELS<br />\n<br />\nBy Robert Askins<br />\n<br />\nDirected by Missy Moore<br />\n<br />\nThe Squirrels is a fiery look at race and class in America. Winter is on its way and the squirrels are growing restless. Mistrust is growing between the rich Gray Squirrels and the outcast Fox Squirrels. When a wily outsider gets in the mix\, he ignites an epic animal kingdom soap opera teeming with rebel armies\, dark conspiracies and divided family loyalties. No squirrel will go unharmed in this deliciously demented dark comedy hailed by Broadway World as &ldquo\;a very entertaining and timely play that will make you laugh and think at the same time.&rdquo\; Fans of last year&rsquo\;s controversial\, surprise hit\, Hooded or Being Black for Dummies\, will love this wicked examination of class\, prejudice\, and politics.<br />\n<br />\nContent Advisory: Adult situation and violence
LOCATION:Aurora Fox Arts Center 9900 E Colfax Ave Aurora\, CO 80010
UID:e.347.100498
SEQUENCE:3
DTSTAMP:20260422T093404Z
URL:https://business.aurorachamber.org/events/details/the-squirrels-01-19-2020-100498
END:VEVENT

END:VCALENDAR
