BEGIN:VCALENDAR
VERSION:2.0
PRODID:-//ChamberMaster//Event Calendar 2.0//EN
METHOD:PUBLISH
X-PUBLISHED-TTL:P3D
REFRESH-INTERVAL:P3D
CALSCALE:GREGORIAN
BEGIN:VEVENT
DTSTART:20190213T181500Z
DTEND:20190213T200000Z
X-MICROSOFT-CDO-ALLDAYEVENT:FALSE
SUMMARY:State of the Base
DESCRIPTION:BGen (select) Troy Endicott\, Buckley Air Force Base Installation Commander and Commander\, 460th Space Wing presents the annual STATE of the BASE at this joint Chamber/Aurora Rotary Luncheon. BGen (sel) Endicott will review Buckley's activities for 2018 and take a look ahead at some of the things we can anticipate in 2019.  This is also the traditional release date for the Annual Buckley Economic Impact Statement.
X-ALT-DESC;FMTTYPE=text/html:<strong><a href="http://www.buckley.af.mil/About-Us/Biographies/Display/Article/731864/colonel-troy-l-endicott/">BGen (select) Troy Endicott</a>\,&nbsp\;</strong>Buckley Air Force Base Installation Commander and&nbsp\;Commander\, 460th Space Wing presents the annual <span style="color: rgb(0\, 0\, 128)\;"><strong>STATE of the BASE </strong></span>at this joint Chamber/Aurora Rotary Luncheon.<span style="color: rgb(0\, 0\, 128)\;"><strong>&nbsp\;</strong></span>BGen (sel)&nbsp\;Endicott will review Buckley&#39\;s&nbsp\;activities for&nbsp\;2018 and take a look ahead at some of the things we can anticipate in 2019.&nbsp\; This is also the traditional release date for the Annual Buckley Economic Impact Statement.
LOCATION:Doubletree Hotel by Hilton Aurora-Denver 13696 E. Iliff Pl. Aurora\, CO 80014 (I-225 & Iliff)
UID:e.347.97818
SEQUENCE:3
DTSTAMP:20260425T222354Z
URL:https://business.aurorachamber.org/events/details/state-of-the-base-97818
END:VEVENT

END:VCALENDAR
