BEGIN:VCALENDAR
VERSION:2.0
PRODID:-//ChamberMaster//Event Calendar 2.0//EN
METHOD:PUBLISH
X-PUBLISHED-TTL:P3D
REFRESH-INTERVAL:P3D
CALSCALE:GREGORIAN
BEGIN:VEVENT
DTSTART:20200122T181500Z
DTEND:20200122T200000Z
X-MICROSOFT-CDO-ALLDAYEVENT:FALSE
SUMMARY:State of the Base
DESCRIPTION:Colonel Devin Pepper Buckley Air Force Base Installation Commander and Commander\, 460th Space Wing presents the annual STATE of the BASE at this joint Chamber/Aurora Rotary Luncheon. Col Pepper will review Buckley's activities for 2019 and take a look ahead at some of the things we can anticipate in 2020.  This is also the traditional release date for the Annual Buckley Economic Impact Statement.
X-ALT-DESC;FMTTYPE=text/html:<span style="font-size: 16px\;"><span style="font-family: courier new\;"><strong><a href="https://www.buckley.af.mil/About-Us/Biographies/Display/Article/731864/colonel-devin-r-pepper/">Colonel Devin Pepper</a>&nbsp\;</strong>Buckley Air Force Base Installation Commander and&nbsp\;Commander\, 460th&nbsp\;Space Wing presents the annual&nbsp\;<span style="color: rgb(0\, 0\, 128)\;"><strong>STATE of the BASE&nbsp\;</strong></span>at this joint Chamber/Aurora Rotary Luncheon.&nbsp\;Col Pepper&nbsp\;will review Buckley&#39\;s&nbsp\;activities for&nbsp\;2019 and take a look ahead at some of the things we can anticipate in 2020.&nbsp\; This is also the traditional release date for the Annual Buckley Economic Impact Statement.</span></span>
LOCATION:Radisson Hotel Denver - Aurora 3155 S. Vaughn Way\, Aurora\, CO 80014
UID:e.347.100660
SEQUENCE:3
DTSTAMP:20260423T103131Z
URL:https://business.aurorachamber.org/events/details/state-of-the-base-100660
END:VEVENT

END:VCALENDAR
