BEGIN:VCALENDAR
VERSION:2.0
PRODID:-//ChamberMaster//Event Calendar 2.0//EN
METHOD:PUBLISH
X-PUBLISHED-TTL:P3D
REFRESH-INTERVAL:P3D
CALSCALE:GREGORIAN
BEGIN:VEVENT
DTSTART:20191107T143000Z
DTEND:20191107T160000Z
X-MICROSOFT-CDO-ALLDAYEVENT:FALSE
SUMMARY:SPECIAL EVENT: INSIDE JIHAD
DESCRIPTION:In partnership with the Counterterrorism Education Learning Lab (CELL)\, the Aurora Chamber's Defense Council (ADC) is hosting an exclusive national security discussion with Dr. Tawfik Hamid on Thursday\, November 7th at the Aurora Municipal Center in the City of Aurora's Council Chambers.  \n\n \n\nDr. Tawfik Hamid an Egyptian former Islamic terrorist is now a scholar and reformer for a more peaceful version of Islam.  He is the author of Inside Jihad: How Radical Islam Works\; Why it Should Terrify Us\; How to Defeat It.  In this program\, Dr. Hamid will provide a timely presentation on the evolving threats of radical Islam\, followed by Q&A. This timely conversation is open to all Aurora Chamber of Commerce and Aurora Defense Council members. RSVP is required.\n\n\n\nCoffee & Light refreshments provided by the Hilton Garden Inn\, Denver Airport.\n\n\n\nPlease see the attached flyer.\n\n\n\nWe look forward to having you attend this exclusive program!
X-ALT-DESC;FMTTYPE=text/html:<span style="font-size: 20px\;"><span style="font-family: verdana\;">In partnership with the Counterterrorism Education Learning Lab (CELL)\, the Aurora Chamber&#39\;s Defense Council (ADC) is hosting an exclusive national security discussion with Dr. Tawfik Hamid on Thursday\, November 7<sup>th</sup> at the Aurora Municipal Center in the City of Aurora&rsquo\;s Council Chambers. &nbsp\;<br />\n&nbsp\;<br />\nDr. Tawfik Hamid an Egyptian former Islamic terrorist is now a scholar and reformer for a more peaceful version of Islam.&nbsp\; He is the author of Inside Jihad: How Radical Islam Works\; Why it Should Terrify Us\; How to Defeat It.&nbsp\; <u>I</u>n this program\, Dr. Hamid will provide a timely presentation on the evolving threats of radical Islam\, followed by Q&amp\;A. This timely conversation is open to all Aurora Chamber of Commerce and Aurora Defense Council members. RSVP is required.<br />\n<br />\nCoffee &amp\; Light refreshments provided by the Hilton Garden Inn\, Denver Airport.<br />\n<br />\nPlease see the <a href="https://chambermaster.blob.core.windows.net/userfiles/UserFiles/chambers/347/File/InsideJihad.pdf">attached flyer</a>.<br />\n<br />\nWe look forward to having you attend this exclusive program!</span></span><br />\n<br />\n<span style="font-family: courier new\;">&nbsp\;</span><br />\n&nbsp\;
LOCATION:Aurora Municipal Center City of Aurora Council Chambers 15151 E Alameda Pkwy\, Aurora\, CO 80012
UID:e.347.100620
SEQUENCE:3
DTSTAMP:20260422T154024Z
URL:https://business.aurorachamber.org/events/details/special-event-inside-jihad-100620
END:VEVENT

END:VCALENDAR
