BEGIN:VCALENDAR
VERSION:2.0
PRODID:-//ChamberMaster//Event Calendar 2.0//EN
METHOD:PUBLISH
X-PUBLISHED-TTL:P3D
REFRESH-INTERVAL:P3D
CALSCALE:GREGORIAN
BEGIN:VEVENT
DTSTART:20190610T160000Z
DTEND:20190610T220000Z
X-MICROSOFT-CDO-ALLDAYEVENT:FALSE
SUMMARY:SECORCares Golf Scramble
DESCRIPTION:We will again be playing on the stunning and award winning Club at Ravenna.  From beginners to pros\, this is a wonderful course and experience you will never forget! \n\n\n\nCelebrity long drive contest\, beautiful course\, mulligans.... all benefiting SECORCares and those in the community who are struggling and hungry.
X-ALT-DESC;FMTTYPE=text/html:<span style="background-color:rgb(242\, 245\, 250)\; font-family:open sans\,arial\; font-size:14px">We will again be playing on the stunning and award winning Club at Ravenna. &nbsp\;From beginners to pros\, this is a wonderful course and experience you will never forget!&nbsp\;</span><br />\n<br />\nCelebrity long drive contest\, beautiful course\, mulligans.... all benefiting SECORCares and those in the community who are struggling and hungry.
LOCATION:Club at Ravenna 11118 Caretaker Rd\, Littleton\, CO 80125
UID:e.347.98561
SEQUENCE:3
DTSTAMP:20260425T141704Z
URL:https://business.aurorachamber.org/events/details/secorcares-golf-scramble-98561
END:VEVENT

END:VCALENDAR
