BEGIN:VCALENDAR
VERSION:2.0
PRODID:-//ChamberMaster//Event Calendar 2.0//EN
METHOD:PUBLISH
X-PUBLISHED-TTL:P3D
REFRESH-INTERVAL:P3D
CALSCALE:GREGORIAN
BEGIN:VEVENT
DTSTART:20190523T160000Z
DTEND:20190523T173000Z
X-MICROSOFT-CDO-ALLDAYEVENT:FALSE
SUMMARY:Ribbon Cutting & Open House - Developmental Pathways
DESCRIPTION:On behalf of Melanie Worley\, Chief Executive Officer of Developmental Pathways\, you are invited to join us on May 23rd at 10:00 am for the grand opening of their new building on Jewell Avenue in Aurora! They will host a ribbon cutting at 10:15 am\, breakfast (with light breakfast fare and a coffee truck)\, plus guided tours of the building! It's an Open House\, until 11:30 am and an amazing opportunity to celebrate supporting individuals with intellectual and developmental disabilities (from early intervention up to adulthood)!
X-ALT-DESC;FMTTYPE=text/html:On behalf of Melanie Worley\, Chief Executive Officer of Developmental Pathways\, you are invited to join us on May 23rd at 10:00 am for the grand opening of their new building on Jewell Avenue in Aurora! They will host <span style="font-size:16px\;"><span style="font-family:comic sans ms\;"><span style="color:#FF0000\;">a ribbon cutting at 10:15 am</span></span></span>\, <span style="color:#8B4513\;">breakfast (with light breakfast fare and a coffee truck)</span>\, <span style="color:#0000FF\;">plus guided tours of the building!</span> It&#39\;s an <span style="color:#008000\;">Open House\, until 11:30 am</span> and an amazing opportunity to celebrate supporting individuals with intellectual and developmental disabilities (from early intervention up to adulthood)!
LOCATION:Developmental Pathways 14280 E. Jewell Ave.\, Ste. A Aurora\, CO 80012
UID:e.347.98633
SEQUENCE:3
DTSTAMP:20260423T221836Z
URL:https://business.aurorachamber.org/events/details/ribbon-cutting-open-house-developmental-pathways-98633
END:VEVENT

END:VCALENDAR
