BEGIN:VCALENDAR
VERSION:2.0
PRODID:-//ChamberMaster//Event Calendar 2.0//EN
METHOD:PUBLISH
X-PUBLISHED-TTL:P3D
REFRESH-INTERVAL:P3D
CALSCALE:GREGORIAN
BEGIN:VEVENT
DTSTART:20260430T230000Z
DTEND:20260501T020000Z
X-MICROSOFT-CDO-ALLDAYEVENT:FALSE
SUMMARY:Ribbon Cutting Advanced OMS
DESCRIPTION:We stand out by combining advanced clinical expertise with a compassionate and patient-first mindset. We prioritize comfort\, clear communication and personalized care to ensure every patient feels at ease throughout their experience with us. Our blend of cutting-edge technology and a warm\, attentive team is what sets us apart. Taco Truck\, Bar Service\, Music and Raffle Prizes will be available!
X-ALT-DESC;FMTTYPE=text/html:We stand out by combining advanced clinical expertise with a compassionate and patient-first mindset. We prioritize comfort\, clear communication and personalized care to ensure every patient feels at ease throughout their experience with us. Our blend of cutting-edge technology and a warm\, attentive team is what sets us apart.&nbsp\;Taco Truck\, Bar Service\, Music and Raffle Prizes will be available!
LOCATION:25521 E. Smoky Hill Rd #100 Aurora\, CO 80016
UID:e.347.109912
SEQUENCE:3
DTSTAMP:20260421T190724Z
URL:https://business.aurorachamber.org/events/details/ribbon-cutting-advanced-oms-109912
END:VEVENT

END:VCALENDAR
