BEGIN:VCALENDAR
VERSION:2.0
PRODID:-//ChamberMaster//Event Calendar 2.0//EN
METHOD:PUBLISH
X-PUBLISHED-TTL:P3D
REFRESH-INTERVAL:P3D
CALSCALE:GREGORIAN
BEGIN:VEVENT
DTSTART:20200131T013000Z
DTEND:20200131T040000Z
X-MICROSOFT-CDO-ALLDAYEVENT:FALSE
SUMMARY:NYM FTB Class
DESCRIPTION:Come learn how we can fit the pieces of your financial puzzle to qualify you to buy your First Home! \n\n\n\nFeaturing: Credit Repair\, Home Inspections\, Insurance\, Roofing Specialists
X-ALT-DESC;FMTTYPE=text/html:<div style="text-align: center\;"><strong><em><span style="color:gray"><span style="font-family:arial\,sans-serif"><span style="font-size:10.0pt">Come learn how we can fit the pieces of your financial puzzle to qualify you to buy your First Home! </span></span></span></em></strong><br />\n<br />\n<strong><em><span style="color:gray"><span style="font-family:arial\,sans-serif"><span style="font-size:10.0pt">Featuring: Credit Repair\, Home Inspections\, Insurance\, Roofing Specialists</span></span></span></em></strong></div>\n
LOCATION:Dry Dock Brewery 15120 E Hampden Ave Aurora\, CO 80014
UID:e.347.100721
SEQUENCE:3
DTSTAMP:20260422T091700Z
URL:https://business.aurorachamber.org/events/details/nym-ftb-class-100721
END:VEVENT

END:VCALENDAR
