BEGIN:VCALENDAR
VERSION:2.0
PRODID:-//ChamberMaster//Event Calendar 2.0//EN
METHOD:PUBLISH
X-PUBLISHED-TTL:P3D
REFRESH-INTERVAL:P3D
CALSCALE:GREGORIAN
BEGIN:VEVENT
DTSTART:20190401T130000Z
DTEND:20190401T150000Z
X-MICROSOFT-CDO-ALLDAYEVENT:FALSE
SUMMARY:Mid-Term Legislators' Breakfast
DESCRIPTION:Mid-Term Legislative Breakfast \n\nPlease join your legislative colleagues from the \n\nEastern Metro Area as well as \n\nAurora Chamber members with the business\n\nand professional community for\n\nbreakfast and discussion\, generously hosted\n\nby CEO Ryan Simpson and his staff\n\nat The Medical Center of Aurora.\n\n\n\nGovernment Affairs\, Education and Energy is sponsored by  Pinnacol Workers' Comp Insurance
X-ALT-DESC;FMTTYPE=text/html:<span style="color:red\;"><span style="font-family:arial\,sans-serif\;">Mid-Term Legislative Breakfast&nbsp\;</span></span><br style="font-variant-ligatures:normal\;font-variant-caps:normal\;orphans:2\;text-align:start\;widows:2\;-webkit-text-stroke-width:0px\;text-decoration-style:initial\;word-spacing:0px\;" />\n<span style="color:#333333\;"><span style="font-family:lucida calligraphy\;"><span style="font-variant-ligatures:normal\;font-variant-caps:normal\;orphans:2\;text-align:start\;widows:2\;-webkit-text-stroke-width:0px\;text-decoration-style:initial\;word-spacing:0px\;">Please join your legislative colleagues from the&nbsp\;</span></span></span><br />\n<span style="color:#333333\;"><span style="font-family:lucida calligraphy\;"><span style="font-variant-ligatures:normal\;font-variant-caps:normal\;orphans:2\;text-align:start\;widows:2\;-webkit-text-stroke-width:0px\;text-decoration-style:initial\;word-spacing:0px\;">Eastern Metro Area as well as&nbsp\;</span></span></span><br />\n<span style="color:#333333\;"><span style="font-family:lucida calligraphy\;"><span style="font-variant-ligatures:normal\;font-variant-caps:normal\;orphans:2\;text-align:start\;widows:2\;-webkit-text-stroke-width:0px\;text-decoration-style:initial\;word-spacing:0px\;">Aurora Chamber members with the business<br />\nand professional community for<br />\nbreakfast and discussion\, generously&nbsp\;</span></span></span><span style="color:#333333\;"><span style="font-family:lucida calligraphy\;"><span style="font-variant-ligatures:normal\;font-variant-caps:normal\;orphans:2\;text-align:start\;widows:2\;-webkit-text-stroke-width:0px\;text-decoration-style:initial\;word-spacing:0px\;">hosted<br />\nby CEO Ryan Simpson and his staff<br />\nat&nbsp\;</span></span></span><span style="color:#333333\;"><span style="font-family:lucida calligraphy\;"><span style="font-variant-ligatures:normal\;font-variant-caps:normal\;orphans:2\;text-align:start\;widows:2\;-webkit-text-stroke-width:0px\;text-decoration-style:initial\;word-spacing:0px\;">The Medical Center of Aurora.</span></span></span><br style="font-variant-ligatures:normal\;font-variant-caps:normal\;orphans:2\;text-align:start\;widows:2\;-webkit-text-stroke-width:0px\;text-decoration-style:initial\;word-spacing:0px\;" />\n<br style="font-variant-ligatures:normal\;font-variant-caps:normal\;orphans:2\;text-align:start\;widows:2\;-webkit-text-stroke-width:0px\;text-decoration-style:initial\;word-spacing:0px\;" />\n<em style="font-variant-ligatures:normal\;font-variant-caps:normal\;orphans:2\;text-align:start\;widows:2\;-webkit-text-stroke-width:0px\;text-decoration-style:initial\;word-spacing:0px\;"><span _mce_style="font-size: 8pt\; color: #4c4c4c\;"><strong><span style="color:#4C4C4C\;"><span style="font-family:arial\,sans-serif\;"><span style="font-size:8.0pt\;">Government Affairs\, Education and Energy is sponsored by</span></span></span></strong></span></em>&nbsp\; <a href="https://www.pinnacol.com/">Pinnacol&nbsp\;Workers&#39\; Comp Insurance</a><br />\n&nbsp\;<br />\n&nbsp\;
LOCATION:The Medical Center of Aurora South Campus Meeting Rooms 1 & 2 1501 South Potomac Street Aurora\, CO 80012
UID:e.347.98515
SEQUENCE:3
DTSTAMP:20260424T173715Z
URL:https://business.aurorachamber.org/events/details/mid-term-legislators-breakfast-98515
END:VEVENT

END:VCALENDAR
