BEGIN:VCALENDAR
VERSION:2.0
PRODID:-//ChamberMaster//Event Calendar 2.0//EN
METHOD:PUBLISH
X-PUBLISHED-TTL:P3D
REFRESH-INTERVAL:P3D
CALSCALE:GREGORIAN
BEGIN:VEVENT
DTSTART:20190530T153000Z
DTEND:20190530T210000Z
X-MICROSOFT-CDO-ALLDAYEVENT:FALSE
SUMMARY:May Blood Drive
DESCRIPTION:The Medical Center of Aurora and Aurora Behavorial Health and Wellness Center are hosting a May Blood Drive!\n\n\n\nThank you for taking time and energy to make our world a better place. By giving blood\, you're transforming the lives of many others. Our goal is to make your donation experience worthwhile and seamless while ensuring a safe blood supply for our community. \n\n\n\n*Please see below picture for Blood Donor Qualifications and Eligibility
X-ALT-DESC;FMTTYPE=text/html:<span style="font-size:18px\;"><span style="color:#0000FF\;">The Medical Center of Aurora and Aurora Behavorial Health and Wellness Center are hosting a May Blood Drive!</span></span><br />\n<br />\nThank you for taking time and energy to make our world a better place. By giving blood\, you&rsquo\;re transforming the lives of many others. Our goal is to make your donation experience worthwhile and seamless while ensuring a safe blood supply for our community.&nbsp\;<br />\n<br />\n<span style="color:#FF0000\;">*Please see below picture for Blood Donor Qualifications and Eligibility</span>
LOCATION:750 Potomac St. Aurora\, CO 80011 Doc Rider Conference Room
UID:e.347.98656
SEQUENCE:3
DTSTAMP:20260423T220006Z
URL:https://business.aurorachamber.org/events/details/may-blood-drive-98656
END:VEVENT

END:VCALENDAR
