BEGIN:VCALENDAR
VERSION:2.0
PRODID:-//ChamberMaster//Event Calendar 2.0//EN
METHOD:PUBLISH
X-PUBLISHED-TTL:P3D
REFRESH-INTERVAL:P3D
CALSCALE:GREGORIAN
BEGIN:VEVENT
DTSTART:20190107T143000Z
DTEND:20190107T160000Z
X-MICROSOFT-CDO-ALLDAYEVENT:FALSE
SUMMARY:Legislators' Breakfast 2019
DESCRIPTION:Please join your legislative colleagues from the Eastern Metro Area as well as Aurora Chamber members with the business and professional community for breakfast and discussion hosted by Dr. Betsy Oudenhoven of the Community College of Aurora.\n\n\n\nThis is an opportunity to meet your Easter Metro State Legislators and hear about their plans for the next session of the Colorado State Legislature!
X-ALT-DESC;FMTTYPE=text/html:<span style="font-size:12px\;"><span style="font-family:tahoma\;">Please join your legislative colleagues from the Eastern Metro Area as well as Aurora Chamber members with the business </span></span><span style="font-family:lucida calligraphy\;"><span style="font-size:12.0pt\;"><span style="font-size:12px\;"><span style="font-family:tahoma\;">and professional community for breakfast and discussion hosted by Dr. Betsy Oudenhoven of the Community College of Aurora.</span></span></span></span><br />\n<br />\n<span style="font-size: 12px\;"><span style="font-family: arial\;"><span style="font-weight: bold\;"><span style="color: black\;">This is an opportunity to meet your Easter Metro State Legislators and hear about their plans for the next session of the Colorado State Legislature!</span></span></span></span>
LOCATION:Community College of Aurora - Student Rotunda 16000 E. Centretech Pkwy. Aurora\, CO 80011
UID:e.347.98252
SEQUENCE:3
DTSTAMP:20260425T104731Z
URL:https://business.aurorachamber.org/events/details/legislators-breakfast-2019-98252
END:VEVENT

END:VCALENDAR
