BEGIN:VCALENDAR
VERSION:2.0
PRODID:-//ChamberMaster//Event Calendar 2.0//EN
METHOD:PUBLISH
X-PUBLISHED-TTL:P3D
REFRESH-INTERVAL:P3D
CALSCALE:GREGORIAN
BEGIN:VEVENT
DTSTART:20200106T141500Z
DTEND:20200106T160000Z
X-MICROSOFT-CDO-ALLDAYEVENT:FALSE
SUMMARY:Legislative Breakfast
DESCRIPTION:Meet your Eastern Metro State Legislators and hear about their plans for the next session of the Colorado State Legislature\n\n\n\nThe Public Issues committee (Government Affairs\, Education\, and Energy) is sponsored by Pinnacol Assurance.
X-ALT-DESC;FMTTYPE=text/html:<strong><span style="color: black\;"><span style="font-family: arial\,sans-serif\;"><span style="font-size: 9pt\;">Meet your Eastern Metro State Legislators and hear about </span></span></span></strong><span style="font-family: arial\,sans-serif\;"><span style="font-size: 9pt\;"><strong><span style="color: black\;">their plans for the next session of the </span></strong><strong><span style="color: black\;">Colorado State Legislature</span></strong></span></span><br />\n<br />\nThe Public Issues committee (Government Affairs\, Education\, and Energy) is sponsored by&nbsp\;<a href="https://www.pinnacol.com/">Pinnacol Assurance.</a>
LOCATION:Community College of Aurora Student Centre Rotunda 16000 E. Centretech Pkwy. Aurora\, CO 80011
UID:e.347.100659
SEQUENCE:3
DTSTAMP:20260421T171741Z
URL:https://business.aurorachamber.org/events/details/legislative-breakfast-100659
END:VEVENT

END:VCALENDAR
