BEGIN:VCALENDAR
VERSION:2.0
PRODID:-//ChamberMaster//Event Calendar 2.0//EN
METHOD:PUBLISH
X-PUBLISHED-TTL:P3D
REFRESH-INTERVAL:P3D
CALSCALE:GREGORIAN
BEGIN:VEVENT
DTSTART:20260611T130000Z
DTEND:20260611T210000Z
X-MICROSOFT-CDO-ALLDAYEVENT:FALSE
SUMMARY:Leadership Aurora Golf Tournament - 2026 (Super Hero Theme)
DESCRIPTION:Leadership Aurora's 28th Annual Golf Tournament\n\nThursday\, June 11\, 2026\n\nHeritage Eagle Bend Golf Club\n\n7 a.m. Registration - 8 a.m. Shotgun Start\n\n\n\nWear your favorite super hero themed golf attire!\n\n\n\nPurchase your SUPER PACKAGE HERE ($70.00 value for only $50.00) in advance and pick it up at registration.  Includes the following:\n\n- 1 Golden Tee\n\n- 1 Foot of String\n\n- 1 Mulligan\n\n- 8 drawing tickets\n\n\n\nSUPERHERO TITLE SPONSOR $5\,000 \n\n	Exclusive "Presented By" status\n	Two foursomes\n	Exclusive tee and green recognition for 1 hole\, and opportunity to have representatives on the course to provide giveaways or promotional items\n	Priority Banner placement at event\n	Priority placement of company name/logo in pre-event material (invitations\, advertising\, website\, registration page\, e-blasts\, news releases and social media).\n\nCAPED CRUSADER PREMIER SPONSOR $2\,000 \n\n\n	One foursome\n	Exclusive tee and green recognition for 1 hole\, and opportunity to have representatives on the course to provide giveaways or promotional items\n	Banner placement at event\n	Company name/logo on Chamber website\, social media\, marketing materials and program\n\nPOWER UP BREAKFAST SPONSOR $2\,000 (SOLD - Colorado Realtors Association)\n\n(providing coffee and burritos)\n\n\n	One foursome\n	Signage on breakfast table\n	Company name/logo on Chamber website\, social media\, marketing materials and program\n\nLIQUID COURAGE BAR SPONSOR $2\,000 \n\n(providing a Bloody Mary & Screwdriver Bar)\n\n\n	One foursome\n	Company name/logo on Chamber website\, social media\, marketing materials and program\n\nPOWERHOUSE PREMIER SPONSOR $1\,000\n\n\n	One foursome\n	Signage on a hole and opportunity to have representatives on the course to provide giveaways or promotional items\n	Company name/logo on Chamber website\, social media\, marketing materials and program\n\nDYNAMIC FOURSOME $800 \n\n10% off for first 10 LA Class Alumni Foursomes to register!  Prize for best Alumni foursome.  Contact The Chamber to receive discount.\n\n\n	One foursome\n\nTABLE/HOLE SPONSOR $400\n\nSignage on hole and opportunity to have representatives on the course to provide giveaways or promotional items  \n\n\n\n1ST PLACE AWARD SPONSOR $400 \n\n\n	Sponsor the 1st place awards.  \n	Opportunity to present the awards at the luncheon.\n\n2nd PLACE AWARD SPONSOR $300 \n\n\n	Sponsor the 2nd place awards.   \n	Opportunity to present the awards at the luncheon.\n\nFAIRWAY SPONSOR $300\n\n\n	Signage on the Fairway\n\nCONTEST HOLE SPONSOR $200\n\n\n	Sponsor prize for one of the contest holes (i.e.\, closest to the pin\, longest drive\, etc.).  Opportunity to present the prize at the luncheon.\n\nPLEASE INQUIRE ABOUT CUSTOMIZED SPONSORSHIP OPPORTUNITIES.\n\n\n\nINDIVIDUAL GOLFER $225
X-ALT-DESC;FMTTYPE=text/html:<strong><em><span style="font-family:tahoma\,sans-serif\;"><span style="font-size:12.0pt\;">Leadership Aurora&#39\;s 28th Annual Golf Tournament</span></span></em></strong><br />\n<span style="font-family:tahoma\,sans-serif\;"><span style="font-size:12.0pt\;">Thursday\, June 11\, 2026<br />\nHeritage Eagle Bend Golf Club<br />\n7 a.m. Registration - 8 a.m. Shotgun Start</span></span><br />\n<br />\n<span style="font-size:20px\;"><em><strong><span style="color:#FF0000\;"><span data-olk-copy-source="MessageBody" style="-webkit-text-size-adjust: auto\; font-family: Aptos\, Aptos_EmbeddedFont\, Aptos_MSFontService\, Calibri\, Helvetica\, sans-serif\;">Wear your favorite super hero themed golf attire!</span></span></strong></em></span><br />\n<br />\n<span style="font-size:14px\;"><strong><span style="font-size:18px\;">Purchase your <a href="https://business.aurorachamber.org/events/details/la-golf-super-package-109897"><font color="#0000ff"><span style="caret-color: rgb(0\, 0\, 255)\;">SUPER PACKAGE HERE</span></font></a>&nbsp\;($70.00 value for only $50.00) in advance and pick it up at registration.&nbsp\; Includes the following:<br />\n- 1 Golden Tee<br />\n- 1 Foot of String<br />\n- 1 Mulligan<br />\n- 8 drawing tickets</span></strong></span><br />\n<br />\n<span style="font-family:tahoma\,sans-serif\;"><span style="font-size:12.0pt\;"><strong>SUPERHERO TITLE SPONSOR $5\,000&nbsp\;</strong></span></span>\n<ul>\n	<li style="line-height:normal\;"><span style="font-family:tahoma\,sans-serif\;"><span style="font-size:12.0pt\;">Exclusive &quot\;Presented By&quot\; status</span></span></li>\n	<li style="line-height:normal\;"><span style="font-family:tahoma\,sans-serif\;"><span style="font-size:12.0pt\;">Two foursomes</span></span></li>\n	<li style="line-height:normal\;"><span style="font-family:tahoma\,sans-serif\;"><span style="font-size:12.0pt\;">Exclusive tee and green recognition for 1 hole\, and opportunity to have&nbsp\;representatives on the course to provide giveaways or promotional items</span></span></li>\n	<li style="line-height:normal\;"><span style="font-family:tahoma\,sans-serif\;"><span style="font-size:12.0pt\;">Priority Banner placement at event</span></span></li>\n	<li style="line-height:normal\;"><span style="font-family:tahoma\,sans-serif\;"><span style="font-size:12.0pt\;">Priority placement of company name/logo in pre-event material (invitations\, advertising\, website\, registration page\, e-blasts\, news releases and social media).</span></span></li>\n</ul>\n<strong><span style="font-family:tahoma\,sans-serif\;"><span style="font-size:12.0pt\;">CAPED CRUSADER PREMIER SPONSOR $2\,000&nbsp\;</span></span></strong>\n\n<ul>\n	<li style="line-height:normal\;"><span style="font-family:tahoma\,sans-serif\;"><span style="font-size:12.0pt\;">One foursome</span></span></li>\n	<li style="line-height:normal\;"><span style="font-family:tahoma\,sans-serif\;"><span style="font-size:12.0pt\;">Exclusive tee and green recognition for 1 hole\, and opportunity to have&nbsp\;representatives on the course to provide giveaways or promotional items</span></span></li>\n	<li style="line-height:normal\;"><span style="font-family:tahoma\,sans-serif\;"><span style="font-size:12.0pt\;">Banner placement at event</span></span></li>\n	<li style="line-height:normal\;"><span style="font-family:tahoma\,sans-serif\;"><span style="font-size:12.0pt\;">Company name/logo on Chamber website\, social media\, marketing materials and program</span></span></li>\n</ul>\n<strong><span style="font-family:tahoma\,sans-serif\;"><span style="font-size:12.0pt\;">POWER UP BREAKFAST SPONSOR&nbsp\;$2\,000 <span style="color:#FF0000\;"><em>(SOLD - Colorado Realtors Association)</em></span></span></span></strong><br />\n<span style="font-family:tahoma\,sans-serif\;"><span style="font-size:12.0pt\;"><em>(providing coffee and burritos)</em></span></span>\n\n<ul>\n	<li style="line-height:normal\;"><span style="font-family:tahoma\,sans-serif\;"><span style="font-size:12.0pt\;">One foursome</span></span></li>\n	<li style="line-height:normal\;"><span style="font-family:tahoma\,sans-serif\;"><span style="font-size:12.0pt\;">Signage on breakfast table</span></span></li>\n	<li style="line-height:normal\;"><span style="font-family:tahoma\,sans-serif\;"><span style="font-size:12.0pt\;">Company name/logo on Chamber website\, social media\, marketing materials and program</span></span></li>\n</ul>\n<span style="font-family:tahoma\,sans-serif\;"><span style="font-size:12.0pt\;"><strong>LIQUID COURAGE BAR SPONSOR $2\,000&nbsp\;</strong></span></span><br />\n<em><span style="font-family:tahoma\,sans-serif\;"><span style="font-size:12.0pt\;">(providing&nbsp\;a Bloody Mary &amp\; Screwdriver Bar)</span></span></em>\n\n<ul>\n	<li style="line-height:normal\;"><span style="font-family:tahoma\,sans-serif\;"><span style="font-size:12.0pt\;">One foursome</span></span></li>\n	<li style="line-height:normal\;"><span style="font-family:tahoma\,sans-serif\;"><span style="font-size:12.0pt\;">Company name/logo on Chamber website\, social media\, marketing materials and program</span></span></li>\n</ul>\n<strong><span style="font-family:tahoma\,sans-serif\;"><span style="font-size:12.0pt\;">POWERHOUSE PREMIER SPONSOR $1\,000</span></span></strong>\n\n<ul>\n	<li style="line-height:normal\;"><span style="font-family:tahoma\,sans-serif\;"><span style="font-size:12.0pt\;">One foursome</span></span></li>\n	<li style="line-height:normal\;"><span style="font-family:tahoma\,sans-serif\;"><span style="font-size:12.0pt\;">Signage on a hole and o</span></span><span style="color: rgb(51\, 51\, 51)\; font-family: tahoma\, sans-serif\; font-size: 16px\; background-color: rgb(255\, 255\, 255)\;">pportunity to have&nbsp\;representatives on the course to provide giveaways or promotional items</span></li>\n	<li style="line-height:normal\;"><span style="font-family:tahoma\,sans-serif\;"><span style="font-size:12.0pt\;">Company name/logo on Chamber website\, social media\, marketing materials and program</span></span></li>\n</ul>\n<strong><span style="font-family:tahoma\,sans-serif\;"><span style="font-size:12.0pt\;">DYNAMIC FOURSOME $800&nbsp\;</span></span></strong><br />\n<strong><span style="color:red\;"><span style="font-family:tahoma\,sans-serif\;"><span style="font-size:12.0pt\;">10% off for first 10 LA Class Alumni Foursomes to&nbsp\;register!&nbsp\; Prize for best Alumni foursome.&nbsp\; Contact The Chamber to receive discount.</span></span></span></strong>\n\n<ul>\n	<li style="line-height:normal\;"><span style="font-family:tahoma\,sans-serif\;"><span style="font-size:12.0pt\;">One foursome</span></span></li>\n</ul>\n<strong><span style="font-family:tahoma\,sans-serif\;"><span style="font-size:12.0pt\;">TABLE/HOLE SPONSOR $400</span></span></strong><br />\n<span style="font-size: 12pt\; font-family: tahoma\, sans-serif\;">Signage on hole and opportunity to have&nbsp\;representatives on the course to provide giveaways or promotional items</span><strong style="font-size: 12pt\; font-family: tahoma\, sans-serif\;">&#8203\;&#8203\;</strong><br />\n<br />\n<strong><span style="font-family:tahoma\,sans-serif\;"><span style="font-size:12.0pt\;">1</span></span></strong><strong><span style="font-family:tahoma\,sans-serif\;"><span style="font-size:10.0pt\;">ST</span></span></strong><strong><span style="font-family:tahoma\,sans-serif\;"><span style="font-size:12.0pt\;">&nbsp\;PLACE AWARD SPONSOR&nbsp\;$400&nbsp\;</span></span></strong>\n\n<ul>\n	<li style="line-height:normal\;"><span style="font-family:tahoma\,sans-serif\;"><span style="font-size:12.0pt\;">Sponsor the 1<sup>st</sup>&nbsp\;place awards.&nbsp\; </span></span></li>\n	<li style="line-height:normal\;"><span style="font-family:tahoma\,sans-serif\;"><span style="font-size:12.0pt\;">Opportunity to present the awards at the luncheon.</span></span></li>\n</ul>\n<strong><span style="font-family:tahoma\,sans-serif\;"><span style="font-size:12.0pt\;">2nd&nbsp\;PLACE AWARD SPONSOR $300&nbsp\;</span></span></strong>\n\n<ul>\n	<li style="line-height:normal\;"><span style="font-family:tahoma\,sans-serif\;"><span style="font-size:12.0pt\;">Sponsor the 2<sup>nd</sup>&nbsp\;place awards.&nbsp\;&nbsp\; </span></span></li>\n	<li style="line-height:normal\;"><span style="font-family:tahoma\,sans-serif\;"><span style="font-size:12.0pt\;">Opportunity to present the awards at the luncheon.</span></span></li>\n</ul>\n<strong><span style="font-family:tahoma\,sans-serif\;"><span style="font-size:12.0pt\;">FAIRWAY SPONSOR $300</span></span></strong>\n\n<ul>\n	<li style="line-height:normal\;"><span style="font-family:tahoma\,sans-serif\;"><span style="font-size:12.0pt\;">Signage on the Fairway</span></span></li>\n</ul>\n<strong><span style="background-image:initial\;background-position:initial\;background-size:initial\;background-repeat:initial\;background-attachment:initial\;background-origin:initial\;background-clip:initial\;"><span style="font-family:tahoma\,sans-serif\;"><span style="font-size:12pt\;">CONTEST HOLE SPONSOR $200</span></span></span></strong>\n\n<ul>\n	<li style="line-height:normal\;"><span style="background-image:initial\;background-position:initial\;background-size:initial\;background-repeat:initial\;background-attachment:initial\;background-origin:initial\;background-clip:initial\;"><span style="font-family:tahoma\,sans-serif\;"><span style="font-size:12pt\;">Sponsor prize for one of the contest holes (i.e.\, closest to the pin\, longest drive\, etc.).&nbsp\; Opportunity to present the prize at the luncheon.</span></span></span></li>\n</ul>\n<strong><span style="font-family:tahoma\,sans-serif\;"><span style="font-size:12.0pt\;">PLEASE INQUIRE ABOUT&nbsp\;CUSTOMIZED SPONSORSHIP OPPORTUNITIES.</span></span></strong><br />\n<br />\n<span style="font-family:tahoma\,sans-serif\;"><span style="font-size:12.0pt\;"><strong>INDIVIDUAL GOLFER $225</strong></span></span><br />\n<br />\n<br />\n&nbsp\;
LOCATION:Leadership Aurora's 28th Annual Golf Tournament Thursday\, June 11\, 2026 Heritage Eagle Bend Golf Club 7 a.m. Registration - 8 a.m. Shotgun Start
UID:e.347.109894
SEQUENCE:3
DTSTAMP:20260421T005904Z
URL:https://business.aurorachamber.org/events/details/leadership-aurora-golf-tournament-2026-super-hero-theme-109894
END:VEVENT

END:VCALENDAR
