BEGIN:VCALENDAR
VERSION:2.0
PRODID:-//ChamberMaster//Event Calendar 2.0//EN
METHOD:PUBLISH
X-PUBLISHED-TTL:P3D
REFRESH-INTERVAL:P3D
CALSCALE:GREGORIAN
BEGIN:VEVENT
DTSTART:20190122T190000Z
DTEND:20190122T200000Z
X-MICROSOFT-CDO-ALLDAYEVENT:FALSE
SUMMARY:Lead by Example
DESCRIPTION:Lead by Example\n\nNEW Leads group \n\nPlease inquire to join or attend a meeting as a guest
X-ALT-DESC;FMTTYPE=text/html:<span style="color: rgb(51\, 51\, 51)\; font-family: sans-serif\, Arial\, Verdana\, &quot\;Trebuchet MS&quot\;\; font-size: 13px\; background-color: rgb(255\, 255\, 255)\;">Lead by Example<br />\nNEW Leads group&nbsp\;</span><br style="color: rgb(51\, 51\, 51)\; font-family: sans-serif\, Arial\, Verdana\, &quot\;Trebuchet MS&quot\;\; font-size: 13px\;" />\n<span style="color: rgb(51\, 51\, 51)\; font-family: sans-serif\, Arial\, Verdana\, &quot\;Trebuchet MS&quot\;\; font-size: 13px\; background-color: rgb(255\, 255\, 255)\;">Please inquire to join or attend a meeting as a guest&nbsp\;</span>
LOCATION:Chamber Office Conference Room B
UID:e.347.96259
SEQUENCE:3
DTSTAMP:20260425T104724Z
URL:https://business.aurorachamber.org/events/details/lead-by-example-01-22-2019-96259
END:VEVENT

END:VCALENDAR
