BEGIN:VCALENDAR
VERSION:2.0
PRODID:-//ChamberMaster//Event Calendar 2.0//EN
METHOD:PUBLISH
X-PUBLISHED-TTL:P3D
REFRESH-INTERVAL:P3D
CALSCALE:GREGORIAN
BEGIN:VEVENT
DTSTART:20191031T230000Z
DTEND:20191101T010000Z
X-MICROSOFT-CDO-ALLDAYEVENT:FALSE
SUMMARY:Halloween Nightmare ~ Happy Hour!
DESCRIPTION:"Eureka! This year\, Christmas will be OURS!" -Jack Skellington\n\n\n\nThe people wanted it so we made it happen again!!! \n\nJoin us Halloween Night! for a Nightmare paint pARTy!!!! Whether if it's your favorite Christmas movie or your favorite Halloween movie get into the spirit of the holiday season with our amazing artist!!! \n\nWith step by step directions\, and our Inspiration Bar your painting will turn out stunning! \n\nEnjoy $2.00 drinks as you Sip\, Relax\, and Un-wined with us! Link to Book your reservations will be up soon!!!
X-ALT-DESC;FMTTYPE=text/html:<span style="color:rgb(29\, 33\, 41)\; font-family:system-ui\,-apple-system\,system-ui\,.sfnstext-regular\,sans-serif\; font-size:14px">&quot\;Eureka! This year\, Christmas will be OURS!&quot\; -Jack Skellington</span><br />\n<br />\n<span style="color:rgb(29\, 33\, 41)\; font-family:system-ui\,-apple-system\,system-ui\,.sfnstext-regular\,sans-serif\; font-size:14px">The people wanted it so we made it happen again!!! </span><br />\n<span style="color:rgb(29\, 33\, 41)\; font-family:system-ui\,-apple-system\,system-ui\,.sfnstext-regular\,sans-serif\; font-size:14px">Join us Halloween Night! for a Nightmare paint pARTy!!!! Whether if it&#39\;s your favorite Christmas movie or your favorite Halloween movie get into the spirit of the holiday season with our amazing artist!!! </span><br />\n<span style="color:rgb(29\, 33\, 41)\; font-family:system-ui\,-apple-system\,system-ui\,.sfnstext-regular\,sans-serif\; font-size:14px">With step by step directions\, and our Inspiration Bar your painting will turn out stunning! </span><br />\n<span style="color:rgb(29\, 33\, 41)\; font-family:system-ui\,-apple-system\,system-ui\,.sfnstext-regular\,sans-serif\; font-size:14px">Enjoy $2.00 drinks as you Sip\, Relax\, and Un-wined with us! Link to Book your reservations will be up soon!!! </span>
LOCATION:Painting with a Twist (Aurora-CO) 14132 E Cedar Ave.\, Aurora\, Colorado 80012
UID:e.347.100471
SEQUENCE:3
DTSTAMP:20260422T191522Z
URL:https://business.aurorachamber.org/events/details/halloween-nightmare-happy-hour-100471
END:VEVENT

END:VCALENDAR
