BEGIN:VCALENDAR
VERSION:2.0
PRODID:-//ChamberMaster//Event Calendar 2.0//EN
METHOD:PUBLISH
X-PUBLISHED-TTL:P3D
REFRESH-INTERVAL:P3D
CALSCALE:GREGORIAN
BEGIN:VEVENT
DTSTART:20190828T230000Z
DTEND:20190829T010000Z
X-MICROSOFT-CDO-ALLDAYEVENT:FALSE
SUMMARY:Grand Opening & Ribbon Cutting - Changes
DESCRIPTION:It's gonna be a big party! Hot appetizers! Variety of beverages! Great raffle items (air fryer\, gift cards\, Denver Broncos' memorabilia)! Live music by local artist\, Tony Goffredi\, who is really good if you haven't heard him! Changes in Parker welcomes you and Chamber members to attend their Grand Opening on Wednesday\, August 28th from 5:00 pm to 7:00 pm with a Ribbon Cutting at 5:00 pm by The Parker Chamber. Changes is a state-of-the-art\, outpatient facility through Denver Springs that offers Partial Hospitalization and Intensive Outpatient Programs for adolescents\, ages 12-17.
X-ALT-DESC;FMTTYPE=text/html:<span style="font-size:18px\;"><span style="color:#FF0000\;">It&#39\;s gonna be a big party! Hot appetizers! Variety of beverages! Great raffle items (air fryer\, gift cards\, Denver Broncos&#39\; memorabilia)! Live music by local artist\, Tony Goffredi\, who is really good if you haven&#39\;t heard him! </span></span>Changes in Parker welcomes you and Chamber members to attend their Grand Opening on Wednesday\, August 28th from 5:00 pm to 7:00 pm with a Ribbon Cutting at 5:00 pm by The Parker Chamber. Changes is a state-of-the-art\, outpatient facility through Denver Springs that offers Partial Hospitalization and Intensive Outpatient Programs for adolescents\, ages 12-17.&nbsp\;
LOCATION:Denver Springs Changes 16830 Northgate Dr.\, Ste. 130 Parker\, CO 80134
UID:e.347.100434
SEQUENCE:3
DTSTAMP:20260423T120517Z
URL:https://business.aurorachamber.org/events/details/grand-opening-ribbon-cutting-changes-100434
END:VEVENT

END:VCALENDAR
