BEGIN:VCALENDAR
VERSION:2.0
PRODID:-//ChamberMaster//Event Calendar 2.0//EN
METHOD:PUBLISH
X-PUBLISHED-TTL:P3D
REFRESH-INTERVAL:P3D
CALSCALE:GREGORIAN
BEGIN:VEVENT
DTSTART:20190828T210000Z
DTEND:20190829T000000Z
X-MICROSOFT-CDO-ALLDAYEVENT:FALSE
SUMMARY:Futures Academy: Open House
DESCRIPTION:Join Colorado Youth for a Change and Futures Academy to celebrate our impact in the Aurora community. Stop by for light refreshments\, take a tour led by alumni\, and learn more about our creative and collaborative approach to\n\neducation. We'll also share the ways you can support Futures Academy during the 2019-2020 school year as a volunteer and advocate.
X-ALT-DESC;FMTTYPE=text/html:Join Colorado Youth for a Change and Futures Academy to celebrate our impact in the Aurora community. Stop by for light refreshments\, take a tour led by alumni\, and learn more about our creative and collaborative approach to<br />\neducation. We&#39\;ll also share the ways you can support Futures Academy during the 2019-2020 school year as a volunteer and advocate.
LOCATION:Futures Academy: 14707 E 2nd Ave Ste 360\, Aurora\, CO 80011
UID:e.347.100350
SEQUENCE:3
DTSTAMP:20260423T075206Z
URL:https://business.aurorachamber.org/events/details/futures-academy-open-house-100350
END:VEVENT

END:VCALENDAR
