BEGIN:VCALENDAR
VERSION:2.0
PRODID:-//ChamberMaster//Event Calendar 2.0//EN
METHOD:PUBLISH
X-PUBLISHED-TTL:P3D
REFRESH-INTERVAL:P3D
CALSCALE:GREGORIAN
BEGIN:VEVENT
DTSTART:20190208T160000Z
DTEND:20190208T171500Z
X-MICROSOFT-CDO-ALLDAYEVENT:FALSE
SUMMARY:Diversity and Inclusion Council
DESCRIPTION:Mission: to promote diversity and inclusion in the business community through education\, outreach\, networking\, mentoring and recognition programs that engage our entire community and support our business leaders.\n\n \n\nVision: to transform our diverse business communities into environments where all businesses are valued for their uniqueness and differences\, and are confident that their contributions matter. \n\n \n\nPurpose: to encourage business to business networking\, improving the business climate and making this community prosperous\, economically attractive and desirable as a place to work\, live and buy local.\n\n\n\n\n\nBusiness Resources: Certifications\, Government Contracting & Assistance\n\nCome learn about beneficial resources available to you and your business!  Experts on government contracting and certifications will provide you with the tools you need to succeed!!\n\n\n\nThe Aurora-South Metro Small Business Development Center offers assistance and support to entrepreneurs in Arapahoe\, Douglas and Adams counties. We work with small business owners at all stages of business\, whether they have an idea and are considering starting a business\, have just started their\n\nbusiness or have been operating for an extended period of time.\n\n\n\nColorado PTAC is dedicated to helping your business start\, grow and prosper through government contracting. PTAC offers free confidential consulting and a comprehensive selection of free training programs.\n\n\n\n\n\nSponsored by Pinnacol Assurance.
X-ALT-DESC;FMTTYPE=text/html:<strong><u><span style="color:black\;"><span style="font-family:times new roman\,serif\;">Mission:</span></span></u></strong> <span style="font-family:times new roman\,serif\;">to promote diversity and inclusion in the business community through education\, outreach\, networking\, mentoring and recognition programs that engage our entire community and support our business leaders.</span><br />\n&nbsp\;<br />\n<strong><u><span style="font-family:times\,serif\;">Vision:</span></u></strong> <span style="font-family:times\,serif\;">to transform our diverse business communities into environments where all businesses are valued for their uniqueness and differences\, and are confident that their contributions matter. </span><br />\n&nbsp\;<br />\n<strong><u><span style="font-family:times\,serif\;">Purpose:</span></u></strong> <span style="font-family:times\,serif\;">to </span><span style="font-family:times new roman\,serif\;">encourage business to business networking\, improving the business climate and making this community prosperous\, economically attractive and desirable as a place to work\, live and buy local.</span><br />\n<br />\n<br />\n<strong><span style="font-variant:small-caps\;"><span style="font-family:arial\,sans-serif\;">Business Resources: Certifications\, Government Contracting &amp\; Assistance</span></span></strong><br />\nCome learn about beneficial resources available to you and your business!&nbsp\; Experts on government contracting and certifications will provide you with the tools you need to succeed!!<br />\n<br />\n<span style="background:white\;"><strong>The Aurora-South Metro Small Business Development Center</strong> offers assistance and support to entrepreneurs in Arapahoe\, Douglas and Adams counties. </span><span style="background:white\;">We work with small business owners at all stages of business\, whether they have an idea and are considering starting a business\, have just started their</span><br />\n<span style="background:white\;">business or have been operating for an extended period of time.</span><br />\n<br />\n<span style="background:white\;"><strong>Colorado PTAC</strong> is dedicated to helping your business start\, grow and prosper through government contracting.&nbsp\;</span>PTAC offers free confidential consulting and a comprehensive selection of free training programs.<br />\n<br />\n<br />\nSponsored by&nbsp\;<a href="https://www.pinnacol.com/">Pinnacol&nbsp\;Assurance</a>.
LOCATION:Aurora Chamber Office 14305 E. Alameda Ave. Suite 300 Aurora\, CO 80012
UID:e.347.98254
SEQUENCE:3
DTSTAMP:20260425T185128Z
URL:https://business.aurorachamber.org/events/details/diversity-and-inclusion-council-98254
END:VEVENT

END:VCALENDAR
