BEGIN:VCALENDAR
VERSION:2.0
PRODID:-//ChamberMaster//Event Calendar 2.0//EN
METHOD:PUBLISH
X-PUBLISHED-TTL:P3D
REFRESH-INTERVAL:P3D
CALSCALE:GREGORIAN
BEGIN:VEVENT
DTSTART:20191114T150000Z
DTEND:20191114T170000Z
X-MICROSOFT-CDO-ALLDAYEVENT:FALSE
SUMMARY:Defense Council
DESCRIPTION:November's Defense Council is a Joint Meeting with C-Springs MAC.
X-ALT-DESC;FMTTYPE=text/html:<span style="font-size: 18px\;">November&#39\;s Defense Council is a Joint Meeting with C-Springs MAC.</span>
LOCATION:9510 Voyager Parkway Colorado Springs\, CO 80840
UID:e.347.100631
SEQUENCE:3
DTSTAMP:20260422T170347Z
URL:https://business.aurorachamber.org/events/details/defense-council-100631
END:VEVENT

END:VCALENDAR
