BEGIN:VCALENDAR
VERSION:2.0
PRODID:-//ChamberMaster//Event Calendar 2.0//EN
METHOD:PUBLISH
X-PUBLISHED-TTL:P3D
REFRESH-INTERVAL:P3D
CALSCALE:GREGORIAN
BEGIN:VEVENT
DTSTART:20190725T003000Z
DTEND:20190725T023000Z
X-MICROSOFT-CDO-ALLDAYEVENT:FALSE
SUMMARY:DaVinci & Michelangelo The Titans Experience
DESCRIPTION:In this tour de force performance inside the Michelangelo's Sistine Chapel Exhibition / The Hangar at Stanley\, Mark Rodgers takes the audience on a fantastic\, awe-inspiring journey through the Italian Renaissance as seen through the eyes of Michelangelo and DaVinci\, two monumental geniuses and rivals.\n\n\n\nThe performance is a one-of-a-kind\, non-stop\, multimedia event featuring movies\, videos\, 3D animations\, and images of DaVinci and Michelangelo's inventions\, machines\, sketches\, codices\, paintings\, and sculptures. Rodgers compares and contrasts the incredible lives of Leonardo and Michelangelo as never before\, relating them to our world today and comparing them to contemporary geniuses Les Paul\, Van Cliburn\, Paul McCartney\, Jacques Cousteau\, and the General Motors modern internal combustion engine\, as we all strive to discover our own inner Michelangelo and DaVinci.\n\n\n\nAttendees get to enjoy the stunning Sistine Chapel exhibition inside The Hangar at Stanley before this terrific theatrical performance.\n\n\n\nThe ticketing link below is for the July 28 performance. For tickets to an earlier performance\, visit our Sistine at Stanley special events ticketing page here:\n\n\n\nbit.ly/sistineatstanleyspecialevents
X-ALT-DESC;FMTTYPE=text/html:<span style="color:rgb(29\, 33\, 41)\; font-family:system-ui\,-apple-system\,blinkmacsystemfont\,.sfnstext-regular\,sans-serif\; font-size:14px">In this tour de force performance inside the </span><a href="https://www.facebook.com/events/2467859573233545/" style="color: rgb(56\, 88\, 152)\; cursor: pointer\; text-decoration: none\; font-family: system-ui\, -apple-system\, BlinkMacSystemFont\, &quot\;.SFNSText-Regular&quot\;\, sans-serif\; font-size: 14px\; white-space: pre-wrap\;" target="_blank">Michelangelo&#39\;s Sistine Chapel Exhibition / The Hangar at Stanley</a><span style="color:rgb(29\, 33\, 41)\; font-family:system-ui\,-apple-system\,blinkmacsystemfont\,.sfnstext-regular\,sans-serif\; font-size:14px">\, Mark Rodgers takes the audience on a fantastic\, awe-inspiring journey through the Italian Renaissance as seen through the eyes of Michelangelo and DaVinci\, two monumental geniuses and rivals.</span><br />\n<br />\n<span style="color:rgb(29\, 33\, 41)\; font-family:system-ui\,-apple-system\,blinkmacsystemfont\,.sfnstext-regular\,sans-serif\; font-size:14px">The performance is a one-of-a-kind\, non-stop\, multimedia event featuring movies\, videos\, 3D animations\, and images of DaVinci and Michelangelo&rsquo\;s inventions\, machines\, sketches\, codices\, paintings\, and sculptures. Rodgers compares and contrasts the incredible lives of Leonardo and Michelangelo as never before\, relating them to our world today and comparing them to contemporary geniuses Les Paul\, Van Cliburn\, Paul McCartney\, Jacques Cousteau\, and the General Motors modern internal combustion engine\, as we all strive to discover our own inner Michelangelo and DaVinci.</span><br />\n<br />\n<span style="color:rgb(29\, 33\, 41)\; font-family:system-ui\,-apple-system\,blinkmacsystemfont\,.sfnstext-regular\,sans-serif\; font-size:14px">Attendees get to enjoy the stunning Sistine Chapel exhibition inside </span><a href="https://www.facebook.com/thehangaratstanley/" style="color: rgb(56\, 88\, 152)\; cursor: pointer\; text-decoration: none\; font-family: system-ui\, -apple-system\, BlinkMacSystemFont\, &quot\;.SFNSText-Regular&quot\;\, sans-serif\; font-size: 14px\; white-space: pre-wrap\;" target="_blank">The Hangar at Stanley</a><span style="color:rgb(29\, 33\, 41)\; font-family:system-ui\,-apple-system\,blinkmacsystemfont\,.sfnstext-regular\,sans-serif\; font-size:14px"> before this terrific theatrical performance.</span><br />\n<br />\n<span style="color:rgb(29\, 33\, 41)\; font-family:system-ui\,-apple-system\,blinkmacsystemfont\,.sfnstext-regular\,sans-serif\; font-size:14px">The ticketing link below is for the July 28 performance. For tickets to an earlier performance\, visit our Sistine at Stanley special events ticketing page here:</span><br />\n<br />\n<a href="https://l.facebook.com/l.php?u=https%3A%2F%2Fbit.ly%2Fsistineatstanleyspecialevents%3Ffbclid%3DIwAR2ehHAQkDKspHu8FHUdHBbt_n3WtWgCL7Dp3KcFtsz0AWxut_skcOTwR9c&amp\;h=AT2_lAEL2KA-vg6t-gSt27J78XMo1ywvAluuZJwPGgiMZnY6tXcJlFZ7w--4zVSHMxETyHg0Ffr26mMSDAVH8Ue2zrUb2znA0CKJGGGU4I5daS3QXYonMtBSbNKn6OY4JSrjHnE2sd-Lgh5sAAYSGyKb6Q" rel="nofollow noopener" style="color: rgb(56\, 88\, 152)\; cursor: pointer\; text-decoration: none\; font-family: system-ui\, -apple-system\, BlinkMacSystemFont\, &quot\;.SFNSText-Regular&quot\;\, sans-serif\; font-size: 14px\; white-space: pre-wrap\;" target="_blank">bit.ly/sistineatstanleyspecialevents</a>
LOCATION:
UID:e.347.100318
SEQUENCE:3
DTSTAMP:20260423T182509Z
URL:https://business.aurorachamber.org/events/details/davinci-michelangelo-the-titans-experience-100318
END:VEVENT

END:VCALENDAR
