BEGIN:VCALENDAR
VERSION:2.0
PRODID:-//ChamberMaster//Event Calendar 2.0//EN
METHOD:PUBLISH
X-PUBLISHED-TTL:P3D
REFRESH-INTERVAL:P3D
CALSCALE:GREGORIAN
BEGIN:VEVENT
DTSTART:20190504T013500Z
DTEND:20190504T033000Z
X-MICROSOFT-CDO-ALLDAYEVENT:FALSE
SUMMARY:Caroline or Change
DESCRIPTION:Book and Lyrics by Tony Kushner\n\nMusic by Jeanine Tesori\n\nDirected by Kenny Moten\n\n \n\nApr. 5 ? May 5\n\nSet in the heat of the Civil Rights Movement\, the Tony-nominated ?Caroline\, Or Change? follows a black maid working for a middle-class Jewish family in Louisiana. When a small amount of money goes missing\, buried tensions threaten to rip two families?and the struggling Caroline?apart. Loosely based on Kushner?s provocative and personal story\, Caroline features a virtuosic score that blends blues\, gospel\, and traditional Jewish melodies into a magical\, show-stopping musical masterpiece.\n\nContent Advisory: None\n\n \n\nDates\n\nFridays | 7:30 p.m.                                          Apr. 5\, 12\, 19\, 26 | May 3\n\nSaturdays* | 7:30 p.m.                                     Apr. 6\, 13\, 20 | May 4\n\nSundays | 2:00 p.m.                                       Apr. 7\, 14\, 21\, 28 | May 5\n\nThursdays | 7:30 p.m.                                    Apr. 11\, 18\, 25 | May 2\n\n*There is no performance on Saturday\, April 27th\, due to the annual Aurora Fox fundraising Gala taking place.
X-ALT-DESC;FMTTYPE=text/html:<span style="font-family:inherit\,serif"><span style="font-size:medium">Book and Lyrics by Tony Kushner</span></span><br>\n<span style="font-family:inherit\,serif"><span style="font-size:medium">Music by Jeanine Tesori</span></span><br>\n<em><span style="font-family:inherit\,serif"><span style="font-size:medium">Directed by Kenny Moten</span></span></em><br>\n&nbsp\;<br>\n<strong><span style="font-family:inherit\,serif"><span style="color:rgb(195\, 81\, 47)"><span style="font-size:medium">Apr. 5 ? May 5</span></span></span></strong><br>\n<span style="font-family:inherit\,serif"><span style="font-size:medium">Set in the heat of the Civil Rights Movement\, the Tony-nominated ?Caroline\, Or Change? follows a black maid working for a middle-class Jewish family in Louisiana. When a small amount of money goes missing\, buried tensions threaten to rip two families?and the struggling Caroline?apart. Loosely based on Kushner?s provocative and personal story\, Caroline features a virtuosic score that blends blues\, gospel\, and traditional Jewish melodies into a magical\, show-stopping musical masterpiece.</span></span><br>\n<em><span style="font-family:inherit\,serif"><span style="font-size:medium">Content Advisory: None</span></span></em><br>\n&nbsp\;<br>\n<strong><span style="font-size:15pt"><span style="font-family:helvetica\,sans-serif"><span style="color:rgb(34\, 34\, 34)">Dates</span></span></span></strong><br>\n<span style="font-family:inherit\,serif"><span style="font-size:medium">Fridays | 7:30 p.m.&nbsp\; &nbsp\; &nbsp\; &nbsp\; &nbsp\; &nbsp\; &nbsp\; &nbsp\; &nbsp\; &nbsp\; &nbsp\; &nbsp\; &nbsp\; &nbsp\; &nbsp\; &nbsp\; &nbsp\; &nbsp\; &nbsp\; &nbsp\; &nbsp\; Apr. 5\, 12\, 19\, 26 | May 3</span></span><br>\n<span style="font-family:inherit\,serif"><span style="font-size:medium">Saturdays* | 7:30 p.m.&nbsp\;&nbsp\;&nbsp\;&nbsp\;&nbsp\;&nbsp\;&nbsp\;&nbsp\;&nbsp\;&nbsp\;&nbsp\;&nbsp\;&nbsp\;&nbsp\;&nbsp\;&nbsp\;&nbsp\;&nbsp\;&nbsp\;&nbsp\;&nbsp\;&nbsp\;&nbsp\;&nbsp\;&nbsp\;&nbsp\;&nbsp\;&nbsp\;&nbsp\;&nbsp\;&nbsp\;&nbsp\;&nbsp\;&nbsp\;&nbsp\;&nbsp\; Apr. 6\, 13\, 20 | May 4</span></span><br>\n<span style="font-family:inherit\,serif"><span style="font-size:medium">Sundays | 2:00 p.m.&nbsp\; &nbsp\; &nbsp\; &nbsp\; &nbsp\; &nbsp\; &nbsp\; &nbsp\; &nbsp\; &nbsp\; &nbsp\; &nbsp\; &nbsp\; &nbsp\; &nbsp\; &nbsp\; &nbsp\; &nbsp\; &nbsp\; &nbsp\;Apr. 7\, 14\, 21\, 28 | May 5</span></span><br>\n<span style="font-family:inherit\,serif"><span style="font-size:medium">Thursdays | 7:30 p.m.&nbsp\;&nbsp\;&nbsp\;&nbsp\;&nbsp\;&nbsp\;&nbsp\;&nbsp\;&nbsp\;&nbsp\;&nbsp\;&nbsp\;&nbsp\;&nbsp\;&nbsp\;&nbsp\;&nbsp\;&nbsp\;&nbsp\;&nbsp\;&nbsp\;&nbsp\;&nbsp\;&nbsp\;&nbsp\;&nbsp\;&nbsp\;&nbsp\;&nbsp\;&nbsp\;&nbsp\;&nbsp\;&nbsp\;&nbsp\;&nbsp\; Apr. 11\, 18\, 25 | May 2</span></span><br>\n<strong><em><span style="font-family:inherit\,serif"><span style="color:rgb(195\, 81\, 47)"><span style="font-size:medium">*There is no performance on Saturday\, April 27th\, due to the annual Aurora Fox fundraising Gala taking place.</span></span></span></em></strong><br>\n&nbsp\;
LOCATION:Aurora Fox Arts Center 9900 E Colfax Ave Aurora\, CO 80010
UID:e.347.98433
SEQUENCE:3
DTSTAMP:20260424T031804Z
URL:https://business.aurorachamber.org/events/details/caroline-or-change-05-03-2019-98433
END:VEVENT

END:VCALENDAR
