BEGIN:VCALENDAR
VERSION:2.0
PRODID:-//ChamberMaster//Event Calendar 2.0//EN
METHOD:PUBLISH
X-PUBLISHED-TTL:P3D
REFRESH-INTERVAL:P3D
CALSCALE:GREGORIAN
BEGIN:VEVENT
DTSTART:20200317T174500Z
DTEND:20200317T190000Z
X-MICROSOFT-CDO-ALLDAYEVENT:FALSE
SUMMARY:CANCELLED - Tips and Leads 1
DESCRIPTION:Tips and Leads 1
X-ALT-DESC;FMTTYPE=text/html:Tips and Leads 1<br />\n&nbsp\;\n<div>\n<div>&nbsp\;</div>\n</div>\n
LOCATION:Aurora Chamber of Commerce 14305 E. Alameda Ave. Suite 300 Aurora\, CO 80012
UID:e.347.88471
SEQUENCE:3
DTSTAMP:20260421T005633Z
URL:https://business.aurorachamber.org/events/details/cancelled-tips-and-leads-1-88471
END:VEVENT

END:VCALENDAR
