BEGIN:VCALENDAR
VERSION:2.0
PRODID:-//ChamberMaster//Event Calendar 2.0//EN
METHOD:PUBLISH
X-PUBLISHED-TTL:P3D
REFRESH-INTERVAL:P3D
CALSCALE:GREGORIAN
BEGIN:VEVENT
DTSTART:20190907T020000Z
DTEND:20190907T040000Z
X-MICROSOFT-CDO-ALLDAYEVENT:FALSE
SUMMARY:Bright Galaxy Blacklight ~Happy Hour!
DESCRIPTION:Try a new kind of Paint night! We have a very special Glow in the Dark Paint night! We will be painting in the dark with Black lights on!!! \n\nWith Step by step instruction from one of the best artist in town!!! \n\nAre you ready to Sip. Paint. Relax\, and Un-wined with us?!\n\nWe have beer and wine available for purchase for 21+ with a valid ID.\n\nSnacks are also available for purchase!\n\nMake sure to register online in advance these classes sell out quick!
X-ALT-DESC;FMTTYPE=text/html:<span style="color:rgb(29\, 33\, 41)\; font-family:system-ui\,-apple-system\,system-ui\,.sfnstext-regular\,sans-serif\; font-size:14px">Try a new kind of Paint night! We have a very special Glow in the Dark Paint night! We will be painting in the dark with Black lights on!!! </span><br />\n<span style="color:rgb(29\, 33\, 41)\; font-family:system-ui\,-apple-system\,system-ui\,.sfnstext-regular\,sans-serif\; font-size:14px">With Step by step instruction from one of the best artist in town!!! </span><br />\n<span style="color:rgb(29\, 33\, 41)\; font-family:system-ui\,-apple-system\,system-ui\,.sfnstext-regular\,sans-serif\; font-size:14px">Are you ready to Sip. Paint. Relax\, and Un-wined with us?!</span><br />\n<span style="color:rgb(29\, 33\, 41)\; font-family:system-ui\,-apple-system\,system-ui\,.sfnstext-regular\,sans-serif\; font-size:14px">We have beer and wine available for purchase for 21+ with a valid ID.</span><br />\n<span style="color:rgb(29\, 33\, 41)\; font-family:system-ui\,-apple-system\,system-ui\,.sfnstext-regular\,sans-serif\; font-size:14px">Snacks are also available for purchase!</span><br />\n<span style="color:rgb(29\, 33\, 41)\; font-family:system-ui\,-apple-system\,system-ui\,.sfnstext-regular\,sans-serif\; font-size:14px">Make sure to register online in advance these classes sell out quick!</span>
LOCATION:Painting with a Twist (Aurora-CO) 14132 E Cedar Ave.\, Aurora\, Colorado 80012
UID:e.347.100459
SEQUENCE:3
DTSTAMP:20260424T064544Z
URL:https://business.aurorachamber.org/events/details/bright-galaxy-blacklight-happy-hour-100459
END:VEVENT

END:VCALENDAR
