BEGIN:VCALENDAR
VERSION:2.0
PRODID:-//ChamberMaster//Event Calendar 2.0//EN
METHOD:PUBLISH
X-PUBLISHED-TTL:P3D
REFRESH-INTERVAL:P3D
CALSCALE:GREGORIAN
BEGIN:VEVENT
DTSTART:20191027T220000Z
DTEND:20191028T000000Z
X-MICROSOFT-CDO-ALLDAYEVENT:FALSE
SUMMARY:Boo N Brew
DESCRIPTION:Town Center at Aurora will put the 'boo' in 'booze' during the upcoming fall celebration\, Boo 'n Brew. On Sunday\, October 27th from 4 - 6pm \, we will offer a family-friendly Halloween-themed event featuring a beer garden for the adults and plenty of treats for the whole family. \n\nChildren (and their parents/guardians) are welcome to come in costume for Boo Bash\, the trick-or-treating aspect of Boo 'n Brew. Various retailers will participate in The Teal Pumpkin Project\, offering non-food treats to promote safety\, inclusion and respect of individuals managing food allergies\, as well as other children for whom candy is not an option.\n\n\nFor sponsorship opportunities\, please contact our mall management team at 303.344.9764 or send an email to the\n\ncontact below.
X-ALT-DESC;FMTTYPE=text/html:<span style="font-size:14px"><span style="font-family:tahoma">Town Center at Aurora will put the &lsquo\;boo&rsquo\; in &lsquo\;booze&rsquo\; during the upcoming fall celebration\, Boo &lsquo\;n Brew. On Sunday\, October 27th from 4 - 6pm \, we will offer a family-friendly Halloween-themed event featuring a beer garden for the adults and plenty of treats for the whole family.&nbsp\;<br />\n<span style="color:rgb(38\, 38\, 38)">Children (and their parents/guardians) are welcome to come in costume for Boo Bash\, the trick-or-treating aspect of Boo &lsquo\;n Brew. Various retailers will participate in The Teal Pumpkin Project\, offering non-food treats to promote safety\, inclusion and respect of individuals managing food allergies\, as well as other children for whom candy is not an option.</span></span></span>\n<p><br />\nFor&nbsp\;sponsorship<span style="white-space:pre">&nbsp\;opportunities\, please contact our mall management team at 303.344.9764 or send an email to the<br />\ncontact below. </span></p>\n
LOCATION:Town Center at Aurora
UID:e.347.100433
SEQUENCE:3
DTSTAMP:20260422T035740Z
URL:https://business.aurorachamber.org/events/details/boo-n-brew-100433
END:VEVENT

END:VCALENDAR
