BEGIN:VCALENDAR
VERSION:2.0
PRODID:-//ChamberMaster//Event Calendar 2.0//EN
METHOD:PUBLISH
X-PUBLISHED-TTL:P3D
REFRESH-INTERVAL:P3D
CALSCALE:GREGORIAN
BEGIN:VEVENT
DTSTART:20190414T200000Z
DTEND:20190414T220000Z
X-MICROSOFT-CDO-ALLDAYEVENT:FALSE
SUMMARY:Bags & Baubles for SECORCares
DESCRIPTION:Enjoy an afternoon out with your girlfriends all while supporting a phenominal cause\, SECORCares.  High end purses like Kate Spade and Coach\, Kendra Scott jewelry\, wine and desserts\, all while supporting families in our community who are ravaged by the effects of suburban poverty.\n\n\n\nTicket includes $10 in "girlfriend bucks" to spend on purses.  Kendra Scott jewelry pull!  Wine\, desserts\, and girlfriends!  All proceeds benefit SECORCares - www.secorcares.com
X-ALT-DESC;FMTTYPE=text/html:Enjoy an afternoon out with your girlfriends all while supporting a phenominal cause\, SECORCares. &nbsp\;High end purses like Kate Spade and Coach\, Kendra Scott jewelry\, wine and desserts\, all while supporting families in our community who are ravaged by the effects of suburban poverty.<br />\n<br />\nTicket includes $10 in &quot\;girlfriend bucks&quot\; to spend on purses. &nbsp\;Kendra Scott jewelry pull! &nbsp\;Wine\, desserts\, and girlfriends! &nbsp\;All proceeds benefit SECORCares - www.secorcares.com
LOCATION:Maggiano's Little Italy 7401 S Clinton St\, Englewood\, CO 80112
UID:e.347.98511
SEQUENCE:3
DTSTAMP:20260425T104924Z
URL:https://business.aurorachamber.org/events/details/bags-baubles-for-secorcares-98511
END:VEVENT

END:VCALENDAR
