BEGIN:VCALENDAR
VERSION:2.0
PRODID:-//ChamberMaster//Event Calendar 2.0//EN
METHOD:PUBLISH
X-PUBLISHED-TTL:P3D
REFRESH-INTERVAL:P3D
CALSCALE:GREGORIAN
BEGIN:VEVENT
DTSTART:20250916T213000Z
DTEND:20250916T230000Z
X-MICROSOFT-CDO-ALLDAYEVENT:FALSE
SUMMARY:Aurora City Council Candidate Reception (replacing Govt. Affairs Meeting)
DESCRIPTION:This month's Govt. Affairs meeting will be replaced by a candidate reception.  The reception is designed to give our business and community leaders the opportunity to connect with individuals seeking to serve on the Aurora City Council.\n\n\n	Tuesday\, September 16\, 2025\, 3:30 p.m.   5:00 p.m.
X-ALT-DESC;FMTTYPE=text/html:<p style="box-sizing: border-box\; margin: 0px 0px 1rem\; outline: 0px\; font-family: Heebo\, Arial\, Helvetica\, sans-serif\; font-size: 16px\; background-color: rgb(255\, 255\, 255)\;"><span style="box-sizing: border-box\; outline: 0px\; font-size: 14px\;"><span style="box-sizing: border-box\; outline: 0px\; font-family: verdana\;"><span style="box-sizing: border-box\; outline: 0px\; font-size: 18px\;">This month&#39\;s Govt. Affairs meeting will be replaced by a candidate reception.&nbsp\; The reception is designed to give our business and community leaders the opportunity to connect with individuals seeking to serve on the&nbsp\;<span style="box-sizing: border-box\; font-weight: bolder\;">Aurora City Council</span>.</span></span></span></p>\n\n<ul style="box-sizing: border-box\; margin-top: 0px\; margin-bottom: 1rem\; font-family: Heebo\, Arial\, Helvetica\, sans-serif\; font-size: 16px\; background-color: rgb(255\, 255\, 255)\;">\n	<li style="box-sizing: border-box\; margin: 0px\;"><span style="box-sizing: border-box\; font-size: 18px\;"><span style="box-sizing: border-box\; font-family: verdana\;"><span style="background-color:#FFFF00\;">Tuesday\, September 16\, 2025\, 3:30&nbsp\;p.m. &ndash\; 5:00&nbsp\;p.m.</span></span></span></li>\n</ul>\n
LOCATION:Aurora Chamber of Commerce 610 S. Abilene Street\, Ste. B Aurora\, CO 80012
UID:e.347.107330
SEQUENCE:3
DTSTAMP:20260425T145451Z
URL:https://business.aurorachamber.org/events/details/aurora-city-council-candidate-reception-replacing-govt-affairs-meeting-09-16-2025-107330
END:VEVENT

END:VCALENDAR
