BEGIN:VCALENDAR
VERSION:2.0
PRODID:-//ChamberMaster//Event Calendar 2.0//EN
METHOD:PUBLISH
X-PUBLISHED-TTL:P3D
REFRESH-INTERVAL:P3D
CALSCALE:GREGORIAN
BEGIN:VEVENT
DTSTART:20200603T133000Z
DTEND:20200603T150000Z
X-MICROSOFT-CDO-ALLDAYEVENT:FALSE
SUMMARY:Arapahoe County Transportation and Development
DESCRIPTION:Bryan Weimer\, Director of Public Works and Development for Arapahoe County will provide an update about transportation and development in the county.\n\nJoin Microsoft Teams Meeting \n\nLearn more about Teams | Meeting options \n\n________________________________________________________________________________
X-ALT-DESC;FMTTYPE=text/html:Bryan Weimer\,&nbsp\;<span style="font-family: Roboto\, sans-serif\;">Director of Public Works and Development for Arapahoe County will provide an update about transportation and development in the county.</span><br />\n<span style="color:#252424\;"><span style="font-family:segoe ui\,sans-serif\;"><a href="https://teams.microsoft.com/l/meetup-join/19%3ameeting_MDg0NDYxYjItMWJhZC00NTAyLWEzMjYtNzYwNTIwNjU4OWU3%40thread.v2/0?context=%7b%22Tid%22%3a%228a4abf59-5b80-47ca-9443-ea1e499fdbb8%22%2c%22Oid%22%3a%223523ae07-9e1d-478d-b878-3c0bde302499%22%7d" target="_blank"><span style="color:#6264A7\;"><span style="font-family:segoe ui semibold\,sans-serif\;"><span style="font-size:13.5pt\;">Join Microsoft Teams Meeting</span></span></span></a> </span></span><br />\n<span style="color:#252424\;"><span style="font-family:segoe ui\,sans-serif\;"><a href="https://aka.ms/JoinTeamsMeeting" target="_blank"><span style="text-decoration:none\;text-underline:none\;"><span style="color:#6264A7\;"><span style="font-size:9.0pt\;">Learn more about Teams</span></span></span></a> | <a href="https://teams.microsoft.com/meetingOptions/?organizerId=3523ae07-9e1d-478d-b878-3c0bde302499&amp\;tenantId=8a4abf59-5b80-47ca-9443-ea1e499fdbb8&amp\;threadId=19_meeting_MDg0NDYxYjItMWJhZC00NTAyLWEzMjYtNzYwNTIwNjU4OWU3@thread.v2&amp\;messageId=0&amp\;language=en-US" target="_blank"><span style="text-decoration:none\;text-underline:none\;"><span style="color:#6264A7\;"><span style="font-size:9.0pt\;">Meeting options</span></span></span></a> </span></span><br />\n<span style="color:gray\;">________________________________________________________________________________</span><br />\n&nbsp\;
LOCATION:Online - information to come
UID:e.347.88174
SEQUENCE:3
DTSTAMP:20260419T221748Z
URL:https://business.aurorachamber.org/events/details/arapahoe-county-transportation-and-development-88174
END:VEVENT

END:VCALENDAR
