BEGIN:VCALENDAR
VERSION:2.0
PRODID:-//ChamberMaster//Event Calendar 2.0//EN
METHOD:PUBLISH
X-PUBLISHED-TTL:P3D
REFRESH-INTERVAL:P3D
CALSCALE:GREGORIAN
BEGIN:VEVENT
DTSTART:20190804T200000Z
DTEND:20190804T220000Z
X-MICROSOFT-CDO-ALLDAYEVENT:FALSE
SUMMARY:1K Six Blocks for SECOR
DESCRIPTION:Join us for our 3rd annual Parker 1K Six Blocks for SECOR!  \nWhen: Sunday\, August 4th starting at 2pm. (check in time is 1:00)\n\nWhere: Starting at the Parker Field-house at 18700 E\, Plaza Dr\, Parker\, CO 80134\n\nThis will be more bigger\, more better\, and far more funner!\n\nJoin us for fun while raising money to help the thousands of families in Douglas\, Arapahoe\, and Elbert counties that are living below the poverty level.\n\n$35  gets you your event t-shirt\, foods and drink from a variety of local Parker restaurants & vendors.\n\nWe will also have a bouncy castle\, a dunk tank\, raffle\, and a DJ\, so make sure you join us.\n\nKids 12 and under race for free if they bring TP (toilet paper) for the SECORCares market (t-shirt not included).\n\nPlease bring your ID to the race so that you can get your adult beverage!
X-ALT-DESC;FMTTYPE=text/html:<strong>Join us for our 3rd annual Parker 1K Six Blocks for SECOR! &nbsp\;</strong>\n<p><strong>When: Sunday\, August 4th starting at 2pm. (check in time is 1:00)</strong></p>\n\n<p><strong>Where: Starting at the Parker Field-house at 18700 E\, Plaza Dr\, Parker\, CO 80134</strong></p>\n\n<p><strong>This will be more bigger\, more better\, and far more funner!<br />\nJoin us for fun while raising money to help the thousands of families in Douglas\, Arapahoe\, and Elbert counties that are living below the poverty level.</strong></p>\n\n<p><strong>$35 &nbsp\;gets you your event t-shirt\, foods and drink from a variety of local Parker restaurants &amp\; vendors.</strong></p>\n\n<p><strong>We will also have a bouncy castle\, a dunk tank\, raffle\, and a DJ\, so make sure you join us.</strong></p>\n\n<p><strong>Kids 12 and under race for free if they bring TP (toilet paper) for the SECORCares market (t-shirt not included).</strong></p>\n\n<p><strong>Please bring your ID to the race so that you can get your adult beverage!</strong></p>\n
LOCATION:Parker Fieldhouse - 18700 E\, Plaza Dr\, Parker\, CO 80134
UID:e.347.100355
SEQUENCE:3
DTSTAMP:20260423T032531Z
URL:https://business.aurorachamber.org/events/details/1k-six-blocks-for-secor-100355
END:VEVENT

END:VCALENDAR
